BEGIN:VCALENDAR
VERSION:2.0
PRODID:-//Piedmont Park Conservancy, Inc. - ECPv6.15.20//NONSGML v1.0//EN
CALSCALE:GREGORIAN
METHOD:PUBLISH
X-WR-CALNAME:Piedmont Park Conservancy, Inc.
X-ORIGINAL-URL:https://piedmontpark.org
X-WR-CALDESC:Events for Piedmont Park Conservancy, Inc.
REFRESH-INTERVAL;VALUE=DURATION:PT1H
X-Robots-Tag:noindex
X-PUBLISHED-TTL:PT1H
BEGIN:VTIMEZONE
TZID:America/New_York
BEGIN:DAYLIGHT
TZOFFSETFROM:-0500
TZOFFSETTO:-0400
TZNAME:EDT
DTSTART:20240310T070000
END:DAYLIGHT
BEGIN:STANDARD
TZOFFSETFROM:-0400
TZOFFSETTO:-0500
TZNAME:EST
DTSTART:20241103T060000
END:STANDARD
BEGIN:DAYLIGHT
TZOFFSETFROM:-0500
TZOFFSETTO:-0400
TZNAME:EDT
DTSTART:20250309T070000
END:DAYLIGHT
BEGIN:STANDARD
TZOFFSETFROM:-0400
TZOFFSETTO:-0500
TZNAME:EST
DTSTART:20251102T060000
END:STANDARD
BEGIN:DAYLIGHT
TZOFFSETFROM:-0500
TZOFFSETTO:-0400
TZNAME:EDT
DTSTART:20260308T070000
END:DAYLIGHT
BEGIN:STANDARD
TZOFFSETFROM:-0400
TZOFFSETTO:-0500
TZNAME:EST
DTSTART:20261101T060000
END:STANDARD
END:VTIMEZONE
BEGIN:VEVENT
DTSTART;TZID=America/New_York:20250807T173000
DTEND;TZID=America/New_York:20250807T183000
DTSTAMP:20260420T011627
CREATED:20250616T135144Z
LAST-MODIFIED:20250709T152936Z
UID:22378-1754587800-1754591400@piedmontpark.org
SUMMARY:Kid + Family Fishing Class
DESCRIPTION:Join us on Lake Clara Meer to learn the basics of freshwater fishing while making memories! We’ll focus on the proper technique\, types of bait that can be used\, and what type of fish you can catch. \nThis class is designed for kids in grades K-5. Materials provided. Price is per child. Children must be accompanied by a parent or chaperone. Up to 3 kids per adult. \nAll materials provided. 10 registrants minimum required for program to run. Piedmont Park Conservancy believes cost should not be a barrier to participation. Please reach out to Russell Honderd – programs@piedmontpark.org for information on financial assistance or if you have any additional questions.
URL:https://piedmontpark.org/event/kid-family-fishing-class-9/
END:VEVENT
END:VCALENDAR