BEGIN:VCALENDAR
VERSION:2.0
PRODID:-//Piedmont Park Conservancy, Inc. - ECPv6.15.20//NONSGML v1.0//EN
CALSCALE:GREGORIAN
METHOD:PUBLISH
X-WR-CALNAME:Piedmont Park Conservancy, Inc.
X-ORIGINAL-URL:https://piedmontpark.org
X-WR-CALDESC:Events for Piedmont Park Conservancy, Inc.
REFRESH-INTERVAL;VALUE=DURATION:PT1H
X-Robots-Tag:noindex
X-PUBLISHED-TTL:PT1H
BEGIN:VTIMEZONE
TZID:UTC
BEGIN:STANDARD
TZOFFSETFROM:+0000
TZOFFSETTO:+0000
TZNAME:UTC
DTSTART:20240101T000000
END:STANDARD
END:VTIMEZONE
BEGIN:VTIMEZONE
TZID:America/New_York
BEGIN:DAYLIGHT
TZOFFSETFROM:-0500
TZOFFSETTO:-0400
TZNAME:EDT
DTSTART:20240310T070000
END:DAYLIGHT
BEGIN:STANDARD
TZOFFSETFROM:-0400
TZOFFSETTO:-0500
TZNAME:EST
DTSTART:20241103T060000
END:STANDARD
BEGIN:DAYLIGHT
TZOFFSETFROM:-0500
TZOFFSETTO:-0400
TZNAME:EDT
DTSTART:20250309T070000
END:DAYLIGHT
BEGIN:STANDARD
TZOFFSETFROM:-0400
TZOFFSETTO:-0500
TZNAME:EST
DTSTART:20251102T060000
END:STANDARD
BEGIN:DAYLIGHT
TZOFFSETFROM:-0500
TZOFFSETTO:-0400
TZNAME:EDT
DTSTART:20260308T070000
END:DAYLIGHT
BEGIN:STANDARD
TZOFFSETFROM:-0400
TZOFFSETTO:-0500
TZNAME:EST
DTSTART:20261101T060000
END:STANDARD
END:VTIMEZONE
BEGIN:VEVENT
DTSTART;TZID=UTC:20250909T100000
DTEND;TZID=UTC:20250909T104500
DTSTAMP:20260420T013823
CREATED:20241203T151850Z
LAST-MODIFIED:20241203T151850Z
UID:20234-1757412000-1757414700@piedmontpark.org
SUMMARY:Weekly Walking Club
DESCRIPTION:Join the Conservancy and fellow park fans for a weekly group walk in Piedmont Park! \nEvery Tuesday\, we host a 45-minute walk on Tuesdays at 10am. Each walk will feature different popular paths while answering any questions you may have about Piedmont Park or the Conservancy. \nFor questions\, please contact Hannah Franklin at programs@piedmontpark.org. \nMeet in front of Dockside near the 12th gate entrance\, five minutes prior to departure. Walk up\, no RSVP required.
URL:https://piedmontpark.org/event/weekly-walking-club-2/2025-09-09/
LOCATION:Dockside\, Atlanta\, GA\, 30357\, United States
CATEGORIES:Conservancy Events,Fitness Events,Free Events
ATTACH;FMTTYPE=image/jpeg:https://piedmontpark.org/wp-content/uploads/2018/12/Walker-Woods-4.jpg
END:VEVENT
BEGIN:VEVENT
DTSTART;TZID=America/New_York:20250909T180000
DTEND;TZID=America/New_York:20250909T210000
DTSTAMP:20260420T013823
CREATED:20250827T140421Z
LAST-MODIFIED:20250827T140421Z
UID:22691-1757440800-1757451600@piedmontpark.org
SUMMARY:Community Art Night RSVP: 9/9
DESCRIPTION:Join the Conservancy for monthly creative hours at the Park! Our doors are open to all at this free event designed to build community + create. Bring any medium/materials you’d like\, make a mess\, make new friends! We will provide space\, great music\, and good vibes. \nFree program\n9/9/2025… 6PM-9PM – 1071 Piedmont Ave NE Atlanta\, GA 30309\n16+\, Provided by Piedmont Park Conservancy
URL:https://piedmontpark.org/event/community-art-night-rsvp-9-9/
END:VEVENT
END:VCALENDAR