BEGIN:VCALENDAR
VERSION:2.0
PRODID:-//Piedmont Park Conservancy, Inc. - ECPv6.15.20//NONSGML v1.0//EN
CALSCALE:GREGORIAN
METHOD:PUBLISH
X-ORIGINAL-URL:https://piedmontpark.org
X-WR-CALDESC:Events for Piedmont Park Conservancy, Inc.
REFRESH-INTERVAL;VALUE=DURATION:PT1H
X-Robots-Tag:noindex
X-PUBLISHED-TTL:PT1H
BEGIN:VTIMEZONE
TZID:UTC
BEGIN:STANDARD
TZOFFSETFROM:+0000
TZOFFSETTO:+0000
TZNAME:UTC
DTSTART:20240101T000000
END:STANDARD
END:VTIMEZONE
BEGIN:VTIMEZONE
TZID:America/New_York
BEGIN:DAYLIGHT
TZOFFSETFROM:-0500
TZOFFSETTO:-0400
TZNAME:EDT
DTSTART:20240310T070000
END:DAYLIGHT
BEGIN:STANDARD
TZOFFSETFROM:-0400
TZOFFSETTO:-0500
TZNAME:EST
DTSTART:20241103T060000
END:STANDARD
BEGIN:DAYLIGHT
TZOFFSETFROM:-0500
TZOFFSETTO:-0400
TZNAME:EDT
DTSTART:20250309T070000
END:DAYLIGHT
BEGIN:STANDARD
TZOFFSETFROM:-0400
TZOFFSETTO:-0500
TZNAME:EST
DTSTART:20251102T060000
END:STANDARD
BEGIN:DAYLIGHT
TZOFFSETFROM:-0500
TZOFFSETTO:-0400
TZNAME:EDT
DTSTART:20260308T070000
END:DAYLIGHT
BEGIN:STANDARD
TZOFFSETFROM:-0400
TZOFFSETTO:-0500
TZNAME:EST
DTSTART:20261101T060000
END:STANDARD
END:VTIMEZONE
BEGIN:VEVENT
DTSTART;TZID=UTC:20250923T100000
DTEND;TZID=UTC:20250923T104500
DTSTAMP:20260420T001302
CREATED:20241203T151850Z
LAST-MODIFIED:20241203T151850Z
UID:20236-1758621600-1758624300@piedmontpark.org
SUMMARY:Weekly Walking Club
DESCRIPTION:Join the Conservancy and fellow park fans for a weekly group walk in Piedmont Park! \nEvery Tuesday\, we host a 45-minute walk on Tuesdays at 10am. Each walk will feature different popular paths while answering any questions you may have about Piedmont Park or the Conservancy. \nFor questions\, please contact Hannah Franklin at programs@piedmontpark.org. \nMeet in front of Dockside near the 12th gate entrance\, five minutes prior to departure. Walk up\, no RSVP required.
URL:https://piedmontpark.org/event/weekly-walking-club-2/2025-09-23/
LOCATION:Dockside\, Atlanta\, GA\, 30357\, United States
CATEGORIES:Conservancy Events,Fitness Events,Free Events
ATTACH;FMTTYPE=image/jpeg:https://piedmontpark.org/wp-content/uploads/2018/12/Walker-Woods-4.jpg
END:VEVENT
BEGIN:VEVENT
DTSTART;TZID=America/New_York:20250923T173000
DTEND;TZID=America/New_York:20250923T193000
DTSTAMP:20260420T001302
CREATED:20250918T152831Z
LAST-MODIFIED:20250918T152831Z
UID:23040-1758648600-1758655800@piedmontpark.org
SUMMARY:Crochet Workshop 101 - Basics
DESCRIPTION:Let’s learn to crochet! During this 2 hour long program participants will learn the basics to crocheting\, leaving with confidence and a new skill in their back pocket. Our first session will go over basics: key crochet concepts\, chain stitches\, and single crochet stitches. Instruction and materials are provided\, participants will have the opportunity to leave with crochet hooks + yarn. \nThis program requires 8 participants minimum to run. Piedmont Park Conservancy believes that cost should not be a barrier to participation. Please reach out to programs@piedmontpark.org – for more information about financial assistance\, booking this as a group activity\, or if you have additional questions regarding this program.
URL:https://piedmontpark.org/event/crochet-workshop-101-basics-3/
END:VEVENT
END:VCALENDAR