BEGIN:VCALENDAR
VERSION:2.0
PRODID:-//Piedmont Park Conservancy, Inc. - ECPv6.15.20//NONSGML v1.0//EN
CALSCALE:GREGORIAN
METHOD:PUBLISH
X-WR-CALNAME:Piedmont Park Conservancy, Inc.
X-ORIGINAL-URL:https://piedmontpark.org
X-WR-CALDESC:Events for Piedmont Park Conservancy, Inc.
REFRESH-INTERVAL;VALUE=DURATION:PT1H
X-Robots-Tag:noindex
X-PUBLISHED-TTL:PT1H
BEGIN:VTIMEZONE
TZID:America/New_York
BEGIN:DAYLIGHT
TZOFFSETFROM:-0500
TZOFFSETTO:-0400
TZNAME:EDT
DTSTART:20240310T070000
END:DAYLIGHT
BEGIN:STANDARD
TZOFFSETFROM:-0400
TZOFFSETTO:-0500
TZNAME:EST
DTSTART:20241103T060000
END:STANDARD
BEGIN:DAYLIGHT
TZOFFSETFROM:-0500
TZOFFSETTO:-0400
TZNAME:EDT
DTSTART:20250309T070000
END:DAYLIGHT
BEGIN:STANDARD
TZOFFSETFROM:-0400
TZOFFSETTO:-0500
TZNAME:EST
DTSTART:20251102T060000
END:STANDARD
BEGIN:DAYLIGHT
TZOFFSETFROM:-0500
TZOFFSETTO:-0400
TZNAME:EDT
DTSTART:20260308T070000
END:DAYLIGHT
BEGIN:STANDARD
TZOFFSETFROM:-0400
TZOFFSETTO:-0500
TZNAME:EST
DTSTART:20261101T060000
END:STANDARD
END:VTIMEZONE
BEGIN:VTIMEZONE
TZID:UTC
BEGIN:STANDARD
TZOFFSETFROM:+0000
TZOFFSETTO:+0000
TZNAME:UTC
DTSTART:20240101T000000
END:STANDARD
END:VTIMEZONE
BEGIN:VEVENT
DTSTART;TZID=America/New_York:20250930T080000
DTEND;TZID=America/New_York:20250930T170000
DTSTAMP:20260420T013658
CREATED:20251001T152632Z
LAST-MODIFIED:20251001T154130Z
UID:23229-1759219200-1759251600@piedmontpark.org
SUMMARY:VA Highlands Plein Air Art Week
DESCRIPTION:Try to spot Virginia Highland Plein Air artists in the Park! They’ll be painting around the Park gearing up for a Wet Paint Sale happening on October 4 from 9AM-1PM at the 12th Street Gate. 10% of sales are donated to Piedmont Park Conservancy!
URL:https://piedmontpark.org/event/virginia-highland-plein-air-painters/2025-09-30/
END:VEVENT
BEGIN:VEVENT
DTSTART;TZID=UTC:20250930T100000
DTEND;TZID=UTC:20250930T104500
DTSTAMP:20260420T013658
CREATED:20241203T151850Z
LAST-MODIFIED:20241203T151850Z
UID:20237-1759226400-1759229100@piedmontpark.org
SUMMARY:Weekly Walking Club
DESCRIPTION:Join the Conservancy and fellow park fans for a weekly group walk in Piedmont Park! \nEvery Tuesday\, we host a 45-minute walk on Tuesdays at 10am. Each walk will feature different popular paths while answering any questions you may have about Piedmont Park or the Conservancy. \nFor questions\, please contact Hannah Franklin at programs@piedmontpark.org. \nMeet in front of Dockside near the 12th gate entrance\, five minutes prior to departure. Walk up\, no RSVP required.
URL:https://piedmontpark.org/event/weekly-walking-club-2/2025-09-30/
LOCATION:Dockside\, Atlanta\, GA\, 30357\, United States
CATEGORIES:Conservancy Events,Fitness Events,Free Events
ATTACH;FMTTYPE=image/jpeg:https://piedmontpark.org/wp-content/uploads/2018/12/Walker-Woods-4.jpg
END:VEVENT
BEGIN:VEVENT
DTSTART;TZID=America/New_York:20250930T183000
DTEND;TZID=America/New_York:20250930T203000
DTSTAMP:20260420T013658
CREATED:20250804T142517Z
LAST-MODIFIED:20250804T142517Z
UID:22572-1759257000-1759264200@piedmontpark.org
SUMMARY:Painting Flowers: Guided Workshop
DESCRIPTION:Flourish in Fall by learning a fresh perspective on painting flowers! Join us for this beginner workshop\, all materials provided. All you need to bring is your creative spirit! We begin by drawing our flowers upside down\, making it much easier to draw while offering a completely new way of seeing shapes. Next\, we’ll flip the canvas right side up and paint our flowers in shades of black and white to create a really cool\, fun painting! Your instructor\, Beth Blackwell Cullen\, has been painting and drawing for more than 10 years. She enjoys helping new artists develop their confidence using tried and true academic principles in exciting\, new ways.
URL:https://piedmontpark.org/event/painting-flowers-guided-workshop-3/
END:VEVENT
END:VCALENDAR