BEGIN:VCALENDAR
VERSION:2.0
PRODID:-//Piedmont Park Conservancy, Inc. - ECPv6.15.20//NONSGML v1.0//EN
CALSCALE:GREGORIAN
METHOD:PUBLISH
X-WR-CALNAME:Piedmont Park Conservancy, Inc.
X-ORIGINAL-URL:https://piedmontpark.org
X-WR-CALDESC:Events for Piedmont Park Conservancy, Inc.
REFRESH-INTERVAL;VALUE=DURATION:PT1H
X-Robots-Tag:noindex
X-PUBLISHED-TTL:PT1H
BEGIN:VTIMEZONE
TZID:America/New_York
BEGIN:DAYLIGHT
TZOFFSETFROM:-0500
TZOFFSETTO:-0400
TZNAME:EDT
DTSTART:20240310T070000
END:DAYLIGHT
BEGIN:STANDARD
TZOFFSETFROM:-0400
TZOFFSETTO:-0500
TZNAME:EST
DTSTART:20241103T060000
END:STANDARD
BEGIN:DAYLIGHT
TZOFFSETFROM:-0500
TZOFFSETTO:-0400
TZNAME:EDT
DTSTART:20250309T070000
END:DAYLIGHT
BEGIN:STANDARD
TZOFFSETFROM:-0400
TZOFFSETTO:-0500
TZNAME:EST
DTSTART:20251102T060000
END:STANDARD
BEGIN:DAYLIGHT
TZOFFSETFROM:-0500
TZOFFSETTO:-0400
TZNAME:EDT
DTSTART:20260308T070000
END:DAYLIGHT
BEGIN:STANDARD
TZOFFSETFROM:-0400
TZOFFSETTO:-0500
TZNAME:EST
DTSTART:20261101T060000
END:STANDARD
END:VTIMEZONE
BEGIN:VEVENT
DTSTART;TZID=America/New_York:20251004T080000
DTEND;TZID=America/New_York:20251004T170000
DTSTAMP:20260419T222751
CREATED:20250709T154933Z
LAST-MODIFIED:20250804T143736Z
UID:22454-1759564800-1759597200@piedmontpark.org
SUMMARY:Splish Splash Doggie Bash
DESCRIPTION:On October 4th & 5th\, come celebrate the return of the annual Splish Splash Doggie Bash with your pup and get your fill of selfies\, fun\, and puppy love. Hundreds of dogs leave this event every year with a smile on their face and a wagging tail\, don’t let your dog miss out!
URL:https://piedmontpark.org/event/splish-splash-doggie-bash-3/2025-10-04/
END:VEVENT
BEGIN:VEVENT
DTSTART;TZID=America/New_York:20251004T080000
DTEND;TZID=America/New_York:20251004T170000
DTSTAMP:20260419T222751
CREATED:20251001T152632Z
LAST-MODIFIED:20251001T154131Z
UID:23233-1759564800-1759597200@piedmontpark.org
SUMMARY:VA Highlands Plein Air Art Week
DESCRIPTION:Try to spot Virginia Highland Plein Air artists in the Park! They’ll be painting around the Park gearing up for a Wet Paint Sale happening on October 4 from 9AM-1PM at the 12th Street Gate. 10% of sales are donated to Piedmont Park Conservancy!
URL:https://piedmontpark.org/event/virginia-highland-plein-air-painters/2025-10-04/
END:VEVENT
BEGIN:VEVENT
DTSTART;TZID=America/New_York:20251004T090000
DTEND;TZID=America/New_York:20251004T130000
DTSTAMP:20260419T222751
CREATED:20250129T161731Z
LAST-MODIFIED:20251021T154957Z
UID:20735-1759568400-1759582800@piedmontpark.org
SUMMARY:Green Market
DESCRIPTION:Voted one of the top five farmer’s markets in Atlanta by Access Atlanta\, Green Market encourages sustainable communities in the most basic way – by providing shoppers with direct access to local farmers and small businesses. Come walk the market and enjoy the fun every Saturday from 9 am – 1 pm\, March – December 2025. \nEnjoy local farmers\, bakers\, jams\, preserves and artisan goods. There is something for everyone. While you shop\, you can enjoy prepared foods and drinks for breakfast and lunch.
URL:https://piedmontpark.org/event/green-market-6/2025-10-04/
LOCATION:12th Street & Piedmont Avenue
END:VEVENT
BEGIN:VEVENT
DTSTART;TZID=America/New_York:20251004T100000
DTEND;TZID=America/New_York:20251004T110000
DTSTAMP:20260419T222751
CREATED:20250219T152827Z
LAST-MODIFIED:20251027T134029Z
UID:21023-1759572000-1759575600@piedmontpark.org
SUMMARY:Piedmont Park Guided History Tour
DESCRIPTION:﻿﻿Saturdays\, March – December | 10 am; 60 – 90 mins | Free \nThe Piedmont Park History Walking Tours include an introduction to the park’s vibrant past and present. The tours are led by Piedmont Park Conservancy Docents. Join us and discover how Piedmont Park’s rich history is undeniably intertwined with the development of Atlanta. Together\, we’ll explore the fascinating historical and physical evolution of iconic Piedmont Park from forest to farm to fairgrounds for the Piedmont Exposition of 1887 and the Cotton States and International Exposition of 1895\, to Atlanta’s premier urban green space. \nMeet in front of the Visitor center which is located near the 12th Street Entrance gate. \n*Registration closes at 12pm the day before the tour. Walk ups are welcome but space is not guaranteed.\nYou will receive an email reminder a few days before your scheduled tour. Any questions please send an email to volunteer@piedmontpark.org. Tours are scheduled rain or shine. If a tour is cancelled you will receive an email  notification.
URL:https://piedmontpark.org/event/piedmont-park-guided-history-tour-7/2025-10-04/
END:VEVENT
END:VCALENDAR