BEGIN:VCALENDAR
VERSION:2.0
PRODID:-//Piedmont Park Conservancy, Inc. - ECPv6.15.20//NONSGML v1.0//EN
CALSCALE:GREGORIAN
METHOD:PUBLISH
X-WR-CALNAME:Piedmont Park Conservancy, Inc.
X-ORIGINAL-URL:https://piedmontpark.org
X-WR-CALDESC:Events for Piedmont Park Conservancy, Inc.
REFRESH-INTERVAL;VALUE=DURATION:PT1H
X-Robots-Tag:noindex
X-PUBLISHED-TTL:PT1H
BEGIN:VTIMEZONE
TZID:America/New_York
BEGIN:DAYLIGHT
TZOFFSETFROM:-0500
TZOFFSETTO:-0400
TZNAME:EDT
DTSTART:20250309T070000
END:DAYLIGHT
BEGIN:STANDARD
TZOFFSETFROM:-0400
TZOFFSETTO:-0500
TZNAME:EST
DTSTART:20251102T060000
END:STANDARD
BEGIN:DAYLIGHT
TZOFFSETFROM:-0500
TZOFFSETTO:-0400
TZNAME:EDT
DTSTART:20260308T070000
END:DAYLIGHT
BEGIN:STANDARD
TZOFFSETFROM:-0400
TZOFFSETTO:-0500
TZNAME:EST
DTSTART:20261101T060000
END:STANDARD
BEGIN:DAYLIGHT
TZOFFSETFROM:-0500
TZOFFSETTO:-0400
TZNAME:EDT
DTSTART:20270314T070000
END:DAYLIGHT
BEGIN:STANDARD
TZOFFSETFROM:-0400
TZOFFSETTO:-0500
TZNAME:EST
DTSTART:20271107T060000
END:STANDARD
END:VTIMEZONE
BEGIN:VEVENT
DTSTART;TZID=America/New_York:20260423T110000
DTEND;TZID=America/New_York:20260423T130000
DTSTAMP:20260423T015047
CREATED:20260210T181747Z
LAST-MODIFIED:20260210T181810Z
UID:24393-1776942000-1776949200@piedmontpark.org
SUMMARY:Landmark Luncheon
DESCRIPTION:The Landmark Luncheon is Piedmont Park Conservancy’s signature fundraising event—and the largest annual gathering in support of Atlanta’s most beloved park. \nEach spring\, hundreds of civic\, corporate\, and community leaders come together to celebrate Piedmont Park and invest in its future. Proceeds from the Landmark Luncheon directly support the Conservancy’s work to preserve\, protect\, and enhance the Park for generations to come. \nThe 2026 Landmark Luncheon will build on the incredible momentum of past years\, spotlighting bold ideas\, shared stewardship\, and the enduring role Piedmont Park plays in the life of our city. Guests can expect an inspiring program\, meaningful connection\, and a renewed sense of what’s possible when Atlanta comes together on behalf of this special place.
URL:https://piedmontpark.org/event/24393/
END:VEVENT
BEGIN:VEVENT
DTSTART;TZID=America/New_York:20260423T173000
DTEND;TZID=America/New_York:20260423T193000
DTSTAMP:20260423T015047
CREATED:20260416T120605Z
LAST-MODIFIED:20260416T120605Z
UID:25497-1776965400-1776972600@piedmontpark.org
SUMMARY:Crochet Workshop: 101
DESCRIPTION:Let’s learn to crochet! During this 2 hour long program participants will learn the basics to crocheting\, leaving with confidence and a new skill in their back pocket. Our first session will go over basics as we learn to make a classic\, Granny Squares. Instruction and materials are provided\, participants will have the opportunity to leave with crochet hooks + yarn.
URL:https://piedmontpark.org/event/crochet-workshop-101/
END:VEVENT
BEGIN:VEVENT
DTSTART;TZID=America/New_York:20260423T180000
DTEND;TZID=America/New_York:20260423T210000
DTSTAMP:20260423T015047
CREATED:20260408T153134Z
LAST-MODIFIED:20260408T183346Z
UID:25423-1776967200-1776978000@piedmontpark.org
SUMMARY:Lantern Parade with The High Museum
DESCRIPTION:This event is hosted by an external partner and is not produced by Piedmont Park Conservancy. \nCelebrate Isamu Noguchi’s work from museum to city with a lantern parade from the High Museum of Art to the Noguchi Playscape in Piedmont Park. Inspired by Noguchi’s iconic Akari paper lanterns and featuring the Krewe of the Grateful Gluttons and the Seed & Feed Marching Abominables\, this family-friendly evening connects the exhibition at the High with one of Atlanta’s great public art treasures. This year also marks the 50th anniversary of the Noguchi Playscape.
URL:https://piedmontpark.org/event/latern-parade-with-the-high-museum/
END:VEVENT
END:VCALENDAR