BEGIN:VCALENDAR
VERSION:2.0
PRODID:-//Piedmont Park Conservancy, Inc. - ECPv6.15.20//NONSGML v1.0//EN
CALSCALE:GREGORIAN
METHOD:PUBLISH
X-ORIGINAL-URL:https://piedmontpark.org
X-WR-CALDESC:Events for Piedmont Park Conservancy, Inc.
REFRESH-INTERVAL;VALUE=DURATION:PT1H
X-Robots-Tag:noindex
X-PUBLISHED-TTL:PT1H
BEGIN:VTIMEZONE
TZID:UTC
BEGIN:STANDARD
TZOFFSETFROM:+0000
TZOFFSETTO:+0000
TZNAME:UTC
DTSTART:20200101T000000
END:STANDARD
END:VTIMEZONE
BEGIN:VEVENT
DTSTART;TZID=UTC:20221018T100000
DTEND;TZID=UTC:20221018T104500
DTSTAMP:20260419T155229
CREATED:20221012T125853Z
LAST-MODIFIED:20241203T151448Z
UID:14989-1666087200-1666089900@piedmontpark.org
SUMMARY:Weekly Walking Club
DESCRIPTION:Join the Conservancy and fellow park fans for a weekly group walk in Piedmont Park! \nEvery Tuesday\, we host a 45-minute walk on Tuesdays at 10am. Each walk will feature different popular paths while answering any questions you may have about Piedmont Park or the Conservancy. \nFor questions\, please contact Hannah Franklin at programs@piedmontpark.org. \nMeet in front of Dockside near the 12th gate entrance\, five minutes prior to departure. Walk up\, no RSVP required.
URL:https://piedmontpark.org/event/weekly-walking-club/2022-10-18/
LOCATION:Dockside\, Atlanta\, GA\, 30357\, United States
CATEGORIES:Conservancy Events,Fitness Events,Free Events
ATTACH;FMTTYPE=image/jpeg:https://piedmontpark.org/wp-content/uploads/2018/12/Walker-Woods-4.jpg
END:VEVENT
BEGIN:VEVENT
DTSTART;TZID=UTC:20221004T100000
DTEND;TZID=UTC:20221004T104500
DTSTAMP:20260419T155229
CREATED:20210820T184348Z
LAST-MODIFIED:20221025T133315Z
UID:13193-1664877600-1664880300@piedmontpark.org
SUMMARY:Weekly Walking Club - Guest Speaker: Matthew Bagshaw\, Green Market Manager.
DESCRIPTION:Join the Conservancy and fellow park fans for a weekly group walk in Piedmont Park! \nGuest Speaker: Matthew Bagshaw will join the Walking Club to answer any of your gardening questions. \nEvery Tuesday\, we host a 45-minute walk on Tuesdays at 10am. Each walk will feature different popular paths while answering any questions you may have about Piedmont Park or the Conservancy. \nFor questions\, please contact Hannah Franklin at programs@piedmontpark.org. \nMeet at the south entrance to the Active Oval five minutes prior to departure. Walk up\, no RSVP required.
URL:https://piedmontpark.org/event/weekly-group-walking-program-2/2022-10-04/
LOCATION:Active Oval
CATEGORIES:Conservancy Events,Fitness Events,Free Events
ATTACH;FMTTYPE=image/jpeg:https://piedmontpark.org/wp-content/uploads/2018/12/Walker-Woods-4.jpg
END:VEVENT
BEGIN:VEVENT
DTSTART;TZID=UTC:20220913T100000
DTEND;TZID=UTC:20220913T104500
DTSTAMP:20260419T155229
CREATED:20210820T184348Z
LAST-MODIFIED:20220831T154708Z
UID:13190-1663063200-1663065900@piedmontpark.org
SUMMARY:Weekly Walking Club - Guest Speaker: Erica Glasener
DESCRIPTION:Join the Conservancy and fellow park fans for a weekly group walk in Piedmont Park! \nEvery Tuesday\, we host a 45-minute walk on Tuesdays at 10am. Each walk will feature different popular paths while answering any questions you may have about Piedmont Park or the Conservancy. \nFor questions\, please contact Hannah Franklin at programs@piedmontpark.org. \nMeet at the south entrance to the Active Oval five minutes prior to departure. Walk up\, no RSVP required.
URL:https://piedmontpark.org/event/weekly-group-walking-program-2022-09-13/
LOCATION:Active Oval
CATEGORIES:Conservancy Events,Fitness Events,Free Events
ATTACH;FMTTYPE=image/jpeg:https://piedmontpark.org/wp-content/uploads/2018/12/Walker-Woods-4.jpg
END:VEVENT
BEGIN:VEVENT
DTSTART;TZID=UTC:20220614T100000
DTEND;TZID=UTC:20220614T104500
DTSTAMP:20260419T155229
CREATED:20210820T184348Z
LAST-MODIFIED:20220601T192356Z
UID:13177-1655200800-1655203500@piedmontpark.org
SUMMARY:Weekly Walking Club – Guest Speaker: John Becker of the Atlanta BeltLine Partnership.
DESCRIPTION:Guest Speaker: John Becker of the Atlanta BeltLine Partnership will be discussing the Atlanta Beltline project\, some history and background\, and where things stand right now with the project. \nJoin the Conservancy and fellow park fans for a weekly group walk in Piedmont Park! \nEvery Tuesday\, we host a 45-minute walk on Tuesdays at 10am. Each walk will feature different popular paths while answering any questions you may have about Piedmont Park or the Conservancy. \nFor questions\, please contact Hannah Franklin at programs@piedmontpark.org. \nMeet at the south entrance to the Active Oval five minutes prior to departure. Walk up\, no RSVP required.
URL:https://piedmontpark.org/event/weekly-group-walking-program-2022-06-14/
LOCATION:Active Oval
CATEGORIES:Conservancy Events,Fitness Events,Free Events
ATTACH;FMTTYPE=image/jpeg:https://piedmontpark.org/wp-content/uploads/2018/12/Walker-Woods-4.jpg
END:VEVENT
BEGIN:VEVENT
DTSTART;TZID=UTC:20220517T100000
DTEND;TZID=UTC:20220517T104500
DTSTAMP:20260419T155229
CREATED:20210820T184348Z
LAST-MODIFIED:20220512T131245Z
UID:12468-1652781600-1652784300@piedmontpark.org
SUMMARY:Weekly Walking Club - Guest Speaker: Carolyn Auger Joiner from Audubon
DESCRIPTION:Join the Conservancy and fellow park fans for a weekly group walk in Piedmont Park! \nCarolyn Auger Joiner from Audubon will be will be leading a lesson on migratory birds. \nEvery Tuesday\, we host a 45-minute walk on Tuesdays at 10am. Each walk will feature different popular paths while answering any questions you may have about Piedmont Park or the Conservancy. \nFor questions\, please contact Hannah Franklin at programs@piedmontpark.org. \nMeet at the south entrance to the Active Oval five minutes prior to departure. Walk up\, no RSVP required.
URL:https://piedmontpark.org/event/weekly-group-walking-program-2022-05-17/
LOCATION:Active Oval
CATEGORIES:Conservancy Events,Fitness Events,Free Events
ATTACH;FMTTYPE=image/jpeg:https://piedmontpark.org/wp-content/uploads/2018/12/Walker-Woods-4.jpg
END:VEVENT
BEGIN:VEVENT
DTSTART;TZID=UTC:20220510T100000
DTEND;TZID=UTC:20220510T104500
DTSTAMP:20260419T155229
CREATED:20210820T184348Z
LAST-MODIFIED:20220421T132911Z
UID:12467-1652176800-1652179500@piedmontpark.org
SUMMARY:Weekly Walking Club - Guest Speaker: Dr. Chris Mowry of the Atlanta Coyote Project 
DESCRIPTION:Guest Speaker: Dr. Chris Mowry of the Atlanta Coyote Project will be discussing his research on urban wildlife and how the remote cameras in Atlanta help to conduct research on coyotes. \nJoin the Conservancy and fellow park fans for a weekly group walk in Piedmont Park! \nEvery Tuesday\, we host a 45-minute walk on Tuesdays at 10am. Each walk will feature different popular paths while answering any questions you may have about Piedmont Park or the Conservancy. \nGuest Speaker: \nDr. Chris Mowry – Atlanta Coyote Project \nMay 10\, Dr. Mowry will be discussing his research on urban wildlife and how the remote cameras in Atlanta help to conduct research on coyotes. \nFor questions\, please contact Hannah Franklin at programs@piedmontpark.org. \nMeet at the south entrance to the Active Oval five minutes prior to departure. Walk up\, no RSVP required.
URL:https://piedmontpark.org/event/weekly-group-walking-program-2022-05-10/
LOCATION:Active Oval
CATEGORIES:Conservancy Events,Fitness Events,Free Events
ATTACH;FMTTYPE=image/jpeg:https://piedmontpark.org/wp-content/uploads/2018/12/Walker-Woods-4.jpg
END:VEVENT
BEGIN:VEVENT
DTSTART;TZID=UTC:20220507T100000
DTEND;TZID=UTC:20220507T113000
DTSTAMP:20260419T155229
CREATED:20220215T143452Z
LAST-MODIFIED:20220215T143452Z
UID:13554-1651917600-1651923000@piedmontpark.org
SUMMARY:Piedmont Park Guided History Tour
DESCRIPTION:The Piedmont Park History Walking Tours include an introduction to the park’s vibrant past and present. Walk with us and discover how Piedmont Park’s rich history is undeniably intertwined with the development of Atlanta. Together\, we’ll explore the fascinating historical and physical evolution of iconic Piedmont Park from forest to farm to fairgrounds for the Piedmont Exposition of 1887 and the Cotton States and International Exposition of 1895\, to Atlanta’s premier urban greenspace. \n\nLed by docent volunteers\nFree and open to all ages\nPlease wear appropriate clothing for the weather as the tour is outside and involves walking\n10 am; 60 – 90 minutes in length\nMeet at Green Market and Conservancy information table located at 12th St. and Piedmont Ave. NE Park entrance\n\nPlease register here. \n  \n 
URL:https://piedmontpark.org/event/piedmont-park-guided-history-tour-2/2022-05-07/
LOCATION:12th Street & Piedmont Avenue
CATEGORIES:Conservancy Events,Free Events,Tours
END:VEVENT
BEGIN:VEVENT
DTSTART;TZID=UTC:20220419T100000
DTEND;TZID=UTC:20220419T104500
DTSTAMP:20260419T155229
CREATED:20210820T184348Z
LAST-MODIFIED:20220414T144027Z
UID:12464-1650362400-1650365100@piedmontpark.org
SUMMARY:Weekly Walking Club - Guest Speaker-Erica Glasener
DESCRIPTION:Join the Conservancy and fellow park fans for a weekly group walk in Piedmont Park! \nEvery Tuesday\, we host a 45-minute walk on Tuesdays at 10am. Each walk will feature different popular paths while answering any questions you may have about Piedmont Park or the Conservancy. \nGuest Speaker: \nErica Glasener – Piedmont Park Conservancy \nApril 19\, Erica will be highlighting the local plants and flowers to be on the look out for this Spring. \nFor questions\, please contact Hannah Franklin at programs@piedmontpark.org. \nMeet at the south entrance to the Active Oval five minutes prior to departure. Walk up\, no RSVP required.
URL:https://piedmontpark.org/event/weekly-group-walking-program-2022-04-19/
LOCATION:Active Oval
CATEGORIES:Conservancy Events,Fitness Events,Free Events
ATTACH;FMTTYPE=image/jpeg:https://piedmontpark.org/wp-content/uploads/2018/12/Walker-Woods-4.jpg
END:VEVENT
BEGIN:VEVENT
DTSTART;TZID=UTC:20220412T100000
DTEND;TZID=UTC:20220412T104500
DTSTAMP:20260419T155229
CREATED:20210820T184348Z
LAST-MODIFIED:20220331T172111Z
UID:12463-1649757600-1649760300@piedmontpark.org
SUMMARY:Weekly Walking Club with special guest- Georgia Audubon
DESCRIPTION:Join the Conservancy and fellow park fans for a weekly group walk in Piedmont Park! \nGeorgia Audubon will be joining the Club on April 12 to lead a bird watching walk and talking about native birds. \nEvery Tuesday\, we host a 45-minute walk on Tuesdays at 10am. Each walk will feature different popular paths while answering any questions you may have about Piedmont Park or the Conservancy. \nFor questions\, please contact Hannah Franklin at programs@piedmontpark.org. \nMeet at the south entrance to the Active Oval five minutes prior to departure. Walk up\, no RSVP required.
URL:https://piedmontpark.org/event/weekly-group-walking-program-2022-04-12/
LOCATION:Active Oval
CATEGORIES:Conservancy Events,Fitness Events,Free Events
ATTACH;FMTTYPE=image/jpeg:https://piedmontpark.org/wp-content/uploads/2018/12/Walker-Woods-4.jpg
END:VEVENT
BEGIN:VEVENT
DTSTART;TZID=UTC:20220329T100000
DTEND;TZID=UTC:20220329T104500
DTSTAMP:20260419T155229
CREATED:20210820T184348Z
LAST-MODIFIED:20220314T164351Z
UID:12461-1648548000-1648550700@piedmontpark.org
SUMMARY:Weekly Walking Club- Guest Speaker: Matthew Bagshaw
DESCRIPTION:Join the Conservancy and fellow park fans for a weekly group walk in Piedmont Park! \nEvery Tuesday\, we host a 45-minute walk on Tuesdays at 10am. Each walk will feature different popular paths while answering any questions you may have about Piedmont Park or the Conservancy. \nGuest Speaker: \nMatthew Bagshaw – Piedmont Park Conservancy \nMarch 29\, Matthew will be providing a behind the scenes look at our Greenhouse. \nFor questions\, please contact Hannah Franklin at programs@piedmontpark.org. \nMeet at the south entrance to the Active Oval five minutes prior to departure. Walk up\, no RSVP required.
URL:https://piedmontpark.org/event/weekly-group-walking-program-2022-03-29/
LOCATION:Active Oval
CATEGORIES:Conservancy Events,Fitness Events,Free Events
ATTACH;FMTTYPE=image/jpeg:https://piedmontpark.org/wp-content/uploads/2018/12/Walker-Woods-4.jpg
END:VEVENT
BEGIN:VEVENT
DTSTART;TZID=UTC:20220305T100000
DTEND;TZID=UTC:20220305T113000
DTSTAMP:20260419T155229
CREATED:20210218T235423Z
LAST-MODIFIED:20220215T143947Z
UID:9432-1646474400-1646479800@piedmontpark.org
SUMMARY:Olmsted 200 - Piedmont Park Guided History Tour
DESCRIPTION:Olmsted 200 Celebration\nApril 26\, 2022\, marks the 200th birthday of Frederick Law Olmsted\, author\, journalist\, public official\, city planner and father of American landscape architecture. Olmsted and his successor firms designed thousands of landscape projects across the country\, transforming American life and culture. His vision of public parks for all people — and their ability to strengthen communities and promote public well-being — are now more important than ever. \nIn honor of and to celebrate Frederick Law Olmsted and his many achievements\, during March and April\, the Piedmont Park Conservancy’s Saturday history tours will highlight Olmsted’s legacy and his design for Piedmont Park which has been implemented over the years including the Park Drive Bridge of 1916. \nWe are a proud partner of the Olmsted 200 campaign\, a nationwide bicentennial birthday celebration of the democratic values and enduring influence of visionary American landscape architect Frederick Law Olmsted. For more information about Olmsted and the campaign\, click here.  \nTour Information\nThe Piedmont Park History Walking Tours include an introduction to the park’s vibrant past and present. Walk with us and discover how Piedmont Park’s rich history is undeniably intertwined with the development of Atlanta. Together\, we’ll explore the fascinating historical and physical evolution of iconic Piedmont Park from forest to farm to fairgrounds for the Piedmont Exposition of 1887 and the Cotton States and International Exposition of 1895\, to Atlanta’s premier urban greenspace. \n\nLed by docent volunteers\nFree and open to all ages\nPlease wear appropriate clothing for the weather as the tour is outside and involves walking\n10 am; 60 – 90 minutes in length\nMeet at the gate of 12th St. and Piedmont Ave NE. During Green Market\, there is a Piedmont Park Conservancy information table to meet at for tour guests.\n\nPlease register here. \n  \n  \n  \n 
URL:https://piedmontpark.org/event/piedmont-park-guided-history-tour/2022-03-05/
LOCATION:12th Street & Piedmont Avenue
CATEGORIES:Conservancy Events,Free Events,Tours
END:VEVENT
BEGIN:VEVENT
DTSTART;TZID=UTC:20220301T100000
DTEND;TZID=UTC:20220301T104500
DTSTAMP:20260419T155229
CREATED:20210820T184348Z
LAST-MODIFIED:20220224T211812Z
UID:12457-1646128800-1646131500@piedmontpark.org
SUMMARY:Weekly Walking Club\, Featuring Dr. Matt Lopez – Northside Hospital
DESCRIPTION:Join the Conservancy and fellow park fans for a weekly group walk in Piedmont Park! \nEvery Tuesday\, we host a 45-minute walk on Tuesdays at 10am. Each walk will feature different popular paths while answering any questions you may have about Piedmont Park or the Conservancy. \nGuest Speaker \nDr. Matt Lopez – Northside Hospital \nMarch 1\, Dr. Lopez will be discussing preventative self-care strategies and additional health related topics. \nFor questions\, please contact Hannah Franklin at programs@piedmontpark.org. \nMeet at the south entrance to the Active Oval five minutes prior to departure. Walk up\, no RSVP required.
URL:https://piedmontpark.org/event/weekly-group-walking-program-2022-03-01/
LOCATION:Active Oval
CATEGORIES:Conservancy Events,Fitness Events,Free Events
ATTACH;FMTTYPE=image/jpeg:https://piedmontpark.org/wp-content/uploads/2018/12/Walker-Woods-4.jpg
END:VEVENT
BEGIN:VEVENT
DTSTART;TZID=UTC:20220201T100000
DTEND;TZID=UTC:20220201T104500
DTSTAMP:20260419T155229
CREATED:20210820T184348Z
LAST-MODIFIED:20220125T202654Z
UID:12453-1643709600-1643712300@piedmontpark.org
SUMMARY:Weekly Walking Club
DESCRIPTION:Join the Conservancy and fellow park fans for a weekly group walk in Piedmont Park! \nWe have a special guest at our weekly Walking Club. President & CEO Mark Banta will be joining the Club to highlight some of his favorite parts of the Park. Spoiler alert – there’s a lot of them! \nEvery Tuesday\, we host a 45-minute walk on Tuesdays at 10am. Each walk will feature different popular paths while answering any questions you may have about Piedmont Park or the Conservancy. \nFor questions\, please contact Hannah Franklin at programs@piedmontpark.org. \nMeet at the south entrance to the Active Oval five minutes prior to departure. Walk up\, no RSVP required.
URL:https://piedmontpark.org/event/weekly-group-walking-program-2022-02-01/
LOCATION:Active Oval
CATEGORIES:Conservancy Events,Fitness Events,Free Events
ATTACH;FMTTYPE=image/jpeg:https://piedmontpark.org/wp-content/uploads/2018/12/Walker-Woods-4.jpg
END:VEVENT
BEGIN:VEVENT
DTSTART;TZID=UTC:20220118T100000
DTEND;TZID=UTC:20220118T104500
DTSTAMP:20260419T155229
CREATED:20210820T184348Z
LAST-MODIFIED:20220125T202558Z
UID:12451-1642500000-1642502700@piedmontpark.org
SUMMARY:Weekly Walking Club
DESCRIPTION:Join the Conservancy and fellow park fans for a weekly group walk in Piedmont Park! \nEvery Tuesday\, we host a 45-minute walk on Tuesdays at 10am. Each walk will feature different popular paths while answering any questions you may have about Piedmont Park or the Conservancy. \nFor questions\, please contact Hannah Franklin at programs@piedmontpark.org. \nMeet at the south entrance to the Active Oval five minutes prior to departure. Walk up\, no RSVP required.
URL:https://piedmontpark.org/event/weekly-group-walking-program-2022-01-18/
LOCATION:Active Oval
CATEGORIES:Conservancy Events,Fitness Events,Free Events
ATTACH;FMTTYPE=image/jpeg:https://piedmontpark.org/wp-content/uploads/2018/12/Walker-Woods-4.jpg
END:VEVENT
BEGIN:VEVENT
DTSTART;TZID=UTC:20220104T100000
DTEND;TZID=UTC:20220104T104500
DTSTAMP:20260419T155229
CREATED:20210820T184348Z
LAST-MODIFIED:20220930T125923Z
UID:11452-1641290400-1641293100@piedmontpark.org
SUMMARY:Weekly Walking Club
DESCRIPTION:Join the Conservancy and fellow park fans for a weekly group walk in Piedmont Park! \nEvery Tuesday\, we host a 45-minute walk on Tuesdays at 10am. Each walk will feature different popular paths while answering any questions you may have about Piedmont Park or the Conservancy. \nFor questions\, please contact Hannah Franklin at programs@piedmontpark.org. \nMeet at the south entrance to the Active Oval five minutes prior to departure. Walk up\, no RSVP required.
URL:https://piedmontpark.org/event/weekly-group-walking-program/2022-01-04/
LOCATION:Active Oval
CATEGORIES:Conservancy Events,Fitness Events,Free Events
ATTACH;FMTTYPE=image/jpeg:https://piedmontpark.org/wp-content/uploads/2018/12/Walker-Woods-4.jpg
END:VEVENT
BEGIN:VEVENT
DTSTART;TZID=UTC:20211016T110000
DTEND;TZID=UTC:20211016T170000
DTSTAMP:20260419T155229
CREATED:20210914T224326Z
LAST-MODIFIED:20220901T171342Z
UID:11805-1634382000-1634403600@piedmontpark.org
SUMMARY:Rescue Dog Games: Atlanta’s Dog Festival & Howl-oween Party in Piedmont Park!
DESCRIPTION:All Dogs & Their Humans Welcome to the FREE festival!\nSaturday\, October 16\, 2021 11 am – 5 pm Piedmont Park — at 10th Street & Charles Allen Dr.\nRescue Dog Games on October 16th is an outdoor fun festival for you & your dog:\n• Interactive-fun games for dogs & their humans!\n• Dog-centered play areas\n• Pet Rescues–support our Pet Rescues (and maybe meet your next best friend to adopt!)\n• Music\, festivities\, beer garden\n• Dog Howl-oween Costume Contest\n• Frisbee Disc Dog Competition—watch the Pro Dogs and enter the fun\n• Lure Chase\n• Dog interactive art project\n• Dog & human photo booth\nwww.RescueDogGames.com #RescueDogGames\nEVERYONE CAN PLAY…YOU JUST NEED TO REGISTER FOR FREE http://www.RescueDogGames.com\nBe the voice for Atlanta dogs by joining in the Dog Festival & Howl-oween Dog Party! Shine a light on the importance of pet adoption And get outside and play with your dog—enjoy that Unconditional love that dogs have to share!\n\nAtlanta Has Gone To the Dogs….See you @ Atlanta’s Dog Festival & Howl-oween Party in Piedmont Park and virtually @ The Great Dog Challenge!
URL:https://piedmontpark.org/event/rescue-dog-games-atlantas-dog-festival-howl-oween-party-in-piedmont-park/
CATEGORIES:Free Events
END:VEVENT
END:VCALENDAR