BEGIN:VCALENDAR
VERSION:2.0
PRODID:-//Piedmont Park Conservancy, Inc. - ECPv6.15.20//NONSGML v1.0//EN
CALSCALE:GREGORIAN
METHOD:PUBLISH
X-ORIGINAL-URL:https://piedmontpark.org
X-WR-CALDESC:Events for Piedmont Park Conservancy, Inc.
REFRESH-INTERVAL;VALUE=DURATION:PT1H
X-Robots-Tag:noindex
X-PUBLISHED-TTL:PT1H
BEGIN:VTIMEZONE
TZID:America/New_York
BEGIN:DAYLIGHT
TZOFFSETFROM:-0500
TZOFFSETTO:-0400
TZNAME:EDT
DTSTART:20250309T070000
END:DAYLIGHT
BEGIN:STANDARD
TZOFFSETFROM:-0400
TZOFFSETTO:-0500
TZNAME:EST
DTSTART:20251102T060000
END:STANDARD
BEGIN:DAYLIGHT
TZOFFSETFROM:-0500
TZOFFSETTO:-0400
TZNAME:EDT
DTSTART:20260308T070000
END:DAYLIGHT
BEGIN:STANDARD
TZOFFSETFROM:-0400
TZOFFSETTO:-0500
TZNAME:EST
DTSTART:20261101T060000
END:STANDARD
BEGIN:DAYLIGHT
TZOFFSETFROM:-0500
TZOFFSETTO:-0400
TZNAME:EDT
DTSTART:20270314T070000
END:DAYLIGHT
BEGIN:STANDARD
TZOFFSETFROM:-0400
TZOFFSETTO:-0500
TZNAME:EST
DTSTART:20271107T060000
END:STANDARD
END:VTIMEZONE
BEGIN:VEVENT
DTSTART;TZID=America/New_York:20260418T090000
DTEND;TZID=America/New_York:20260418T130000
DTSTAMP:20260421T153258
CREATED:20260401T021949Z
LAST-MODIFIED:20260401T025033Z
UID:25276-1776502800-1776517200@piedmontpark.org
SUMMARY:Green Market
DESCRIPTION:For more than 20 years\, the Green Market has been a beloved Piedmont Park tradition — connecting our community with local farmers\, producers\, and artisans in one of the most beautiful settings in Atlanta. From farm-fresh produce and pantry staples to handcrafted goods and one-of-a-kind gifts\, the Green Market is your go-to destination for the very best in hyper-local shopping. Join us Saturdays from 9 a.m. – 1 p.m.\, beginning the last weekend in March through the second weekend in December.
URL:https://piedmontpark.org/event/green-market-2026/2026-04-18/
END:VEVENT
BEGIN:VEVENT
DTSTART;TZID=America/New_York:20260419T180000
DTEND;TZID=America/New_York:20260419T200000
DTSTAMP:20260421T153258
CREATED:20260417T135840Z
LAST-MODIFIED:20260417T135840Z
UID:25512-1776621600-1776628800@piedmontpark.org
SUMMARY:Atlanta Symphony Orchestra: Concert in the Park
DESCRIPTION:This event is hosted by an external partner and is not produced by Piedmont Park Conservancy. \nFinan Jones conducts the evening’s program\, featuring a selection of orchestral favorites specially selected to highlight our nation’s 250th anniversary. Program selections will include works by such beloved American composers as Leonard Bernstein and Florence Price\, plus masterworks by Dvořák and Mozart. \n“Returning to perform in Piedmont Park is a cherished tradition for the orchestra that allows us to share our music with Atlantans in a gorgeous setting under the stars\,” said Jennifer Barlament\, the ASO’s Executive Director. “I’m particularly excited to share this year’s program that was especially crafted to explore the impacts that Americans have had on the world of orchestra music over the past 250 years.” \nThe evening begins with an overture from Leonard Bernstein’s Broadway musical\, Candide\, and is followed by a fanfare by one of America’s most well-known composers\, John Adams. Then the orchestra performs movements from symphonies by African American composers Florence Price and William Grant Still. The program takes a local turn when the orchestra performs a work by a teenage composer from Georgia\, Reflections on Georgia. The concert finale is a work inspired by Dvořák’s visit to America in the late 1800’s – the Symphony No. 9 “From the New World.” \nAttendees are encouraged to arrive early\, as seating with a good view of the stage is first-come\, first-served. Admission is free to the public\, and tickets are not required. There will also be food trucks with beverages to complete the picnic experience. Family-friendly activities will be hosted by the ASO Education and Community Engagement Department.
URL:https://piedmontpark.org/event/atlanta-symphony-orchestra-concert-in-the-park/
END:VEVENT
BEGIN:VEVENT
DTSTART;TZID=America/New_York:20260421T100000
DTEND;TZID=America/New_York:20260421T104500
DTSTAMP:20260421T153258
CREATED:20260105T152336Z
LAST-MODIFIED:20260105T152336Z
UID:24050-1776765600-1776768300@piedmontpark.org
SUMMARY:Weekly Walking Club
DESCRIPTION:Join the Conservancy and fellow park fans for a weekly group walk in Piedmont Park! \nEvery Tuesday\, we host a 45-minute walk on Tuesdays at 10am. Each walk will feature different popular paths while answering any questions you may have about Piedmont Park or the Conservancy. \nFor questions\, please contact Kaycee Walker at programs@piedmontpark.org. \nMeet in front of Dockside near the 12th gate entrance\, five minutes prior to departure. Walk up\, no RSVP required.
URL:https://piedmontpark.org/event/weekly-walking-club-3/2026-04-21/
LOCATION:Dockside\, Atlanta\, GA\, 30357\, United States
END:VEVENT
BEGIN:VEVENT
DTSTART;TZID=America/New_York:20260423T110000
DTEND;TZID=America/New_York:20260423T130000
DTSTAMP:20260421T153258
CREATED:20260210T181747Z
LAST-MODIFIED:20260210T181810Z
UID:24393-1776942000-1776949200@piedmontpark.org
SUMMARY:Landmark Luncheon
DESCRIPTION:The Landmark Luncheon is Piedmont Park Conservancy’s signature fundraising event—and the largest annual gathering in support of Atlanta’s most beloved park. \nEach spring\, hundreds of civic\, corporate\, and community leaders come together to celebrate Piedmont Park and invest in its future. Proceeds from the Landmark Luncheon directly support the Conservancy’s work to preserve\, protect\, and enhance the Park for generations to come. \nThe 2026 Landmark Luncheon will build on the incredible momentum of past years\, spotlighting bold ideas\, shared stewardship\, and the enduring role Piedmont Park plays in the life of our city. Guests can expect an inspiring program\, meaningful connection\, and a renewed sense of what’s possible when Atlanta comes together on behalf of this special place.
URL:https://piedmontpark.org/event/24393/
END:VEVENT
BEGIN:VEVENT
DTSTART;TZID=America/New_York:20260423T173000
DTEND;TZID=America/New_York:20260423T193000
DTSTAMP:20260421T153258
CREATED:20260416T120605Z
LAST-MODIFIED:20260416T120605Z
UID:25497-1776965400-1776972600@piedmontpark.org
SUMMARY:Crochet Workshop: 101
DESCRIPTION:Let’s learn to crochet! During this 2 hour long program participants will learn the basics to crocheting\, leaving with confidence and a new skill in their back pocket. Our first session will go over basics as we learn to make a classic\, Granny Squares. Instruction and materials are provided\, participants will have the opportunity to leave with crochet hooks + yarn.
URL:https://piedmontpark.org/event/crochet-workshop-101/
END:VEVENT
BEGIN:VEVENT
DTSTART;TZID=America/New_York:20260423T180000
DTEND;TZID=America/New_York:20260423T210000
DTSTAMP:20260421T153258
CREATED:20260408T153134Z
LAST-MODIFIED:20260408T183346Z
UID:25423-1776967200-1776978000@piedmontpark.org
SUMMARY:Lantern Parade with The High Museum
DESCRIPTION:This event is hosted by an external partner and is not produced by Piedmont Park Conservancy. \nCelebrate Isamu Noguchi’s work from museum to city with a lantern parade from the High Museum of Art to the Noguchi Playscape in Piedmont Park. Inspired by Noguchi’s iconic Akari paper lanterns and featuring the Krewe of the Grateful Gluttons and the Seed & Feed Marching Abominables\, this family-friendly evening connects the exhibition at the High with one of Atlanta’s great public art treasures. This year also marks the 50th anniversary of the Noguchi Playscape.
URL:https://piedmontpark.org/event/latern-parade-with-the-high-museum/
END:VEVENT
BEGIN:VEVENT
DTSTART;TZID=America/New_York:20260425T090000
DTEND;TZID=America/New_York:20260425T130000
DTSTAMP:20260421T153258
CREATED:20260401T021949Z
LAST-MODIFIED:20260401T025033Z
UID:25277-1777107600-1777122000@piedmontpark.org
SUMMARY:Green Market
DESCRIPTION:For more than 20 years\, the Green Market has been a beloved Piedmont Park tradition — connecting our community with local farmers\, producers\, and artisans in one of the most beautiful settings in Atlanta. From farm-fresh produce and pantry staples to handcrafted goods and one-of-a-kind gifts\, the Green Market is your go-to destination for the very best in hyper-local shopping. Join us Saturdays from 9 a.m. – 1 p.m.\, beginning the last weekend in March through the second weekend in December.
URL:https://piedmontpark.org/event/green-market-2026/2026-04-25/
END:VEVENT
BEGIN:VEVENT
DTSTART;TZID=America/New_York:20260428T100000
DTEND;TZID=America/New_York:20260428T104500
DTSTAMP:20260421T153258
CREATED:20260105T152336Z
LAST-MODIFIED:20260105T152336Z
UID:24051-1777370400-1777373100@piedmontpark.org
SUMMARY:Weekly Walking Club
DESCRIPTION:Join the Conservancy and fellow park fans for a weekly group walk in Piedmont Park! \nEvery Tuesday\, we host a 45-minute walk on Tuesdays at 10am. Each walk will feature different popular paths while answering any questions you may have about Piedmont Park or the Conservancy. \nFor questions\, please contact Kaycee Walker at programs@piedmontpark.org. \nMeet in front of Dockside near the 12th gate entrance\, five minutes prior to departure. Walk up\, no RSVP required.
URL:https://piedmontpark.org/event/weekly-walking-club-3/2026-04-28/
LOCATION:Dockside\, Atlanta\, GA\, 30357\, United States
END:VEVENT
BEGIN:VEVENT
DTSTART;TZID=America/New_York:20260428T180000
DTEND;TZID=America/New_York:20260428T190000
DTSTAMP:20260421T153258
CREATED:20260320T121947Z
LAST-MODIFIED:20260320T132201Z
UID:24891-1777399200-1777402800@piedmontpark.org
SUMMARY:Yoga in the Park
DESCRIPTION:Join the Conservancy as we partner with Dancing Dogs Yoga + lululemon to create an unforgettable free outdoor yoga experience. Breathe in the fresh air and connect with the vibrant energy of Atlanta. Whether you’re a seasoned yogi or stepping onto the mat for the first time\, this event welcomes all levels of experience. Grab your mat\, hydrate with your favorite water bottle\, and bring along a friend to share in the magic of this rejuvenating practice.
URL:https://piedmontpark.org/event/yoga-in-the-park-4/
END:VEVENT
BEGIN:VEVENT
DTSTART;TZID=America/New_York:20260429T180000
DTEND;TZID=America/New_York:20260429T193000
DTSTAMP:20260421T153258
CREATED:20260320T122039Z
LAST-MODIFIED:20260320T132039Z
UID:24894-1777485600-1777491000@piedmontpark.org
SUMMARY:Terrarium Workshop
DESCRIPTION:Come create your own living terrarium at the Park! Perfect idea for a fun craft night to celebrate Earth Day early. Travis Ronis with Overall Designs will guide you through designing your own terrarium in this fun workshop! When registering\, you’ll have options to upgrade to a medium or large terrarium for an additional fee. Your creation will include an option of 3D printed figurines and decorations\, too!!!
URL:https://piedmontpark.org/event/terrarium-workshop-3/
END:VEVENT
BEGIN:VEVENT
DTSTART;TZID=America/New_York:20260430T183000
DTEND;TZID=America/New_York:20260430T203000
DTSTAMP:20260421T153258
CREATED:20260320T122139Z
LAST-MODIFIED:20260320T131916Z
UID:24897-1777573800-1777581000@piedmontpark.org
SUMMARY:Block Printing: Tote Bags
DESCRIPTION:Spend time in the Park while creating something fun – all while making new friends! Learn to use linocut techniques as you carve\, ink\, and press your own designs. Local artist Heather Baker of @paperandpenny is instructing and you’ll print on a tote bag that is perfect for spring picnics\, trips to the Green Market\, and more. All materials provided.
URL:https://piedmontpark.org/event/block-printing-tote-bags-2/
END:VEVENT
BEGIN:VEVENT
DTSTART;TZID=America/New_York:20260502T090000
DTEND;TZID=America/New_York:20260502T130000
DTSTAMP:20260421T153258
CREATED:20260401T021949Z
LAST-MODIFIED:20260401T025033Z
UID:25278-1777712400-1777726800@piedmontpark.org
SUMMARY:Green Market
DESCRIPTION:For more than 20 years\, the Green Market has been a beloved Piedmont Park tradition — connecting our community with local farmers\, producers\, and artisans in one of the most beautiful settings in Atlanta. From farm-fresh produce and pantry staples to handcrafted goods and one-of-a-kind gifts\, the Green Market is your go-to destination for the very best in hyper-local shopping. Join us Saturdays from 9 a.m. – 1 p.m.\, beginning the last weekend in March through the second weekend in December.
URL:https://piedmontpark.org/event/green-market-2026/2026-05-02/
END:VEVENT
BEGIN:VEVENT
DTSTART;VALUE=DATE:20260503
DTEND;VALUE=DATE:20260504
DTSTAMP:20260421T153258
CREATED:20260408T133912Z
LAST-MODIFIED:20260408T133912Z
UID:25408-1777766400-1777852799@piedmontpark.org
SUMMARY:Tacos and Tequila Festival
DESCRIPTION:
URL:https://piedmontpark.org/event/tacos-and-tequila-festival/
END:VEVENT
BEGIN:VEVENT
DTSTART;TZID=America/New_York:20260505T100000
DTEND;TZID=America/New_York:20260505T104500
DTSTAMP:20260421T153258
CREATED:20260105T152336Z
LAST-MODIFIED:20260105T152336Z
UID:24052-1777975200-1777977900@piedmontpark.org
SUMMARY:Weekly Walking Club
DESCRIPTION:Join the Conservancy and fellow park fans for a weekly group walk in Piedmont Park! \nEvery Tuesday\, we host a 45-minute walk on Tuesdays at 10am. Each walk will feature different popular paths while answering any questions you may have about Piedmont Park or the Conservancy. \nFor questions\, please contact Kaycee Walker at programs@piedmontpark.org. \nMeet in front of Dockside near the 12th gate entrance\, five minutes prior to departure. Walk up\, no RSVP required.
URL:https://piedmontpark.org/event/weekly-walking-club-3/2026-05-05/
LOCATION:Dockside\, Atlanta\, GA\, 30357\, United States
END:VEVENT
BEGIN:VEVENT
DTSTART;TZID=America/New_York:20260506T180000
DTEND;TZID=America/New_York:20260506T193000
DTSTAMP:20260421T153258
CREATED:20260421T122107Z
LAST-MODIFIED:20260421T122107Z
UID:25536-1778090400-1778095800@piedmontpark.org
SUMMARY:Bike Repair Workshop with SOPO and Science for GA
DESCRIPTION:Learn basic bike maintenance and repair—from chain cleaning to fixing a flat—in this hands-on workshop with Science for Georgia and SOPO Bicycle Cooperative. Free and open to the public.
URL:https://piedmontpark.org/event/bike-repair-workshop-with-sopo-and-science-for-ga/
LOCATION:Community Center
CATEGORIES:Free Events
GEO:33.7838653;-84.3786481
END:VEVENT
BEGIN:VEVENT
DTSTART;TZID=America/New_York:20260507T180000
DTEND;TZID=America/New_York:20260507T200000
DTSTAMP:20260421T153258
CREATED:20260421T122328Z
LAST-MODIFIED:20260421T122328Z
UID:25539-1778176800-1778184000@piedmontpark.org
SUMMARY:Craft Workshop: Macrame Wall Hanging
DESCRIPTION:Learn the basics of macramé in this beginner-friendly workshop and create your own wall hanging using simple knots and a gold hoop—materials included.
URL:https://piedmontpark.org/event/craft-workshop-macrame-wall-hanging/
LOCATION:Community Center
GEO:33.7838653;-84.3786481
END:VEVENT
BEGIN:VEVENT
DTSTART;TZID=America/New_York:20260508T183000
DTEND;TZID=America/New_York:20260508T203000
DTSTAMP:20260421T153258
CREATED:20260421T122452Z
LAST-MODIFIED:20260421T122452Z
UID:25542-1778265000-1778272200@piedmontpark.org
SUMMARY:Craft Workshop: Silk Scarf Painting
DESCRIPTION:Create a wearable work of art in this silk scarf workshop—perfect for Mother’s Day—using silk paints and markers to design your own unique piece. Materials included.
URL:https://piedmontpark.org/event/craft-workshop-silk-scarf-painting/
LOCATION:Community Center
GEO:33.7838653;-84.3786481
END:VEVENT
BEGIN:VEVENT
DTSTART;TZID=America/New_York:20260509T090000
DTEND;TZID=America/New_York:20260509T130000
DTSTAMP:20260421T153258
CREATED:20260401T021949Z
LAST-MODIFIED:20260401T025033Z
UID:25279-1778317200-1778331600@piedmontpark.org
SUMMARY:Green Market
DESCRIPTION:For more than 20 years\, the Green Market has been a beloved Piedmont Park tradition — connecting our community with local farmers\, producers\, and artisans in one of the most beautiful settings in Atlanta. From farm-fresh produce and pantry staples to handcrafted goods and one-of-a-kind gifts\, the Green Market is your go-to destination for the very best in hyper-local shopping. Join us Saturdays from 9 a.m. – 1 p.m.\, beginning the last weekend in March through the second weekend in December.
URL:https://piedmontpark.org/event/green-market-2026/2026-05-09/
END:VEVENT
BEGIN:VEVENT
DTSTART;TZID=America/New_York:20260511T183000
DTEND;TZID=America/New_York:20260511T203000
DTSTAMP:20260421T153258
CREATED:20260421T122903Z
LAST-MODIFIED:20260421T122903Z
UID:25545-1778524200-1778531400@piedmontpark.org
SUMMARY:Community Game Night
DESCRIPTION:Enjoy an evening of classic games like Mah Jongg and chess\, or bring your own to play in this welcoming\, all-levels program—free and open to the community.
URL:https://piedmontpark.org/event/community-game-night-3/
LOCATION:Community Center
CATEGORIES:Free Events
GEO:33.7838653;-84.3786481
END:VEVENT
BEGIN:VEVENT
DTSTART;TZID=America/New_York:20260512T100000
DTEND;TZID=America/New_York:20260512T104500
DTSTAMP:20260421T153258
CREATED:20260105T152336Z
LAST-MODIFIED:20260105T152336Z
UID:24053-1778580000-1778582700@piedmontpark.org
SUMMARY:Weekly Walking Club
DESCRIPTION:Join the Conservancy and fellow park fans for a weekly group walk in Piedmont Park! \nEvery Tuesday\, we host a 45-minute walk on Tuesdays at 10am. Each walk will feature different popular paths while answering any questions you may have about Piedmont Park or the Conservancy. \nFor questions\, please contact Kaycee Walker at programs@piedmontpark.org. \nMeet in front of Dockside near the 12th gate entrance\, five minutes prior to departure. Walk up\, no RSVP required.
URL:https://piedmontpark.org/event/weekly-walking-club-3/2026-05-12/
LOCATION:Dockside\, Atlanta\, GA\, 30357\, United States
END:VEVENT
BEGIN:VEVENT
DTSTART;TZID=America/New_York:20260512T180000
DTEND;TZID=America/New_York:20260512T210000
DTSTAMP:20260421T153258
CREATED:20260421T123023Z
LAST-MODIFIED:20260421T123023Z
UID:25548-1778608800-1778619600@piedmontpark.org
SUMMARY:Community Craft Night
DESCRIPTION:Create and connect at Community Craft Night using Scraplanta’s recycled materials—bring a project or try something new in this relaxed\, all-levels program. Free and open to the community.
URL:https://piedmontpark.org/event/community-craft-night-2/
CATEGORIES:Free Events
END:VEVENT
BEGIN:VEVENT
DTSTART;TZID=America/New_York:20260514T180000
DTEND;TZID=America/New_York:20260514T193000
DTSTAMP:20260421T153258
CREATED:20260421T123430Z
LAST-MODIFIED:20260421T123430Z
UID:25551-1778781600-1778787000@piedmontpark.org
SUMMARY:Pickles for the People
DESCRIPTION:Learn the basics of quick pickling and create your own custom jar using seasonal produce\, herbs\, and spices in this hands-on workshop—materials included.
URL:https://piedmontpark.org/event/pickles-for-the-people/
LOCATION:Community Center
GEO:33.7838653;-84.3786481
END:VEVENT
BEGIN:VEVENT
DTSTART;TZID=America/New_York:20260516T090000
DTEND;TZID=America/New_York:20260516T130000
DTSTAMP:20260421T153258
CREATED:20260401T021949Z
LAST-MODIFIED:20260401T025033Z
UID:25280-1778922000-1778936400@piedmontpark.org
SUMMARY:Green Market
DESCRIPTION:For more than 20 years\, the Green Market has been a beloved Piedmont Park tradition — connecting our community with local farmers\, producers\, and artisans in one of the most beautiful settings in Atlanta. From farm-fresh produce and pantry staples to handcrafted goods and one-of-a-kind gifts\, the Green Market is your go-to destination for the very best in hyper-local shopping. Join us Saturdays from 9 a.m. – 1 p.m.\, beginning the last weekend in March through the second weekend in December.
URL:https://piedmontpark.org/event/green-market-2026/2026-05-16/
END:VEVENT
BEGIN:VEVENT
DTSTART;TZID=America/New_York:20260519T100000
DTEND;TZID=America/New_York:20260519T104500
DTSTAMP:20260421T153258
CREATED:20260105T152336Z
LAST-MODIFIED:20260105T152336Z
UID:24054-1779184800-1779187500@piedmontpark.org
SUMMARY:Weekly Walking Club
DESCRIPTION:Join the Conservancy and fellow park fans for a weekly group walk in Piedmont Park! \nEvery Tuesday\, we host a 45-minute walk on Tuesdays at 10am. Each walk will feature different popular paths while answering any questions you may have about Piedmont Park or the Conservancy. \nFor questions\, please contact Kaycee Walker at programs@piedmontpark.org. \nMeet in front of Dockside near the 12th gate entrance\, five minutes prior to departure. Walk up\, no RSVP required.
URL:https://piedmontpark.org/event/weekly-walking-club-3/2026-05-19/
LOCATION:Dockside\, Atlanta\, GA\, 30357\, United States
END:VEVENT
BEGIN:VEVENT
DTSTART;TZID=America/New_York:20260519T180000
DTEND;TZID=America/New_York:20260519T190000
DTSTAMP:20260421T153258
CREATED:20260421T125120Z
LAST-MODIFIED:20260421T125120Z
UID:25554-1779213600-1779217200@piedmontpark.org
SUMMARY:Connect & Learn: Bluebird Boxes in the Park
DESCRIPTION:Learn the story behind Eastern bluebird conservation and meet the citizen scientists monitoring nest boxes in Piedmont Park in this engaging program—discover how you can get involved.
URL:https://piedmontpark.org/event/connect-learn-bluebird-boxes-in-the-park/
LOCATION:Community Center
CATEGORIES:Free Events
GEO:33.7838653;-84.3786481
END:VEVENT
BEGIN:VEVENT
DTSTART;TZID=America/New_York:20260520T180000
DTEND;TZID=America/New_York:20260520T200000
DTSTAMP:20260421T153258
CREATED:20260421T125230Z
LAST-MODIFIED:20260421T125230Z
UID:25557-1779300000-1779307200@piedmontpark.org
SUMMARY:Welcome Home: Houses\, Doorways\, and Buildings - Painting Program
DESCRIPTION:Paint a custom portrait of your home on a pre-sketched canvas in this guided workshop with Heather Baker of Paper & Penny—submit your photo in advance; materials included.
URL:https://piedmontpark.org/event/welcome-home-houses-doorways-and-buildings-painting-program/
LOCATION:Community Center
GEO:33.7838653;-84.3786481
END:VEVENT
BEGIN:VEVENT
DTSTART;TZID=America/New_York:20260521T190000
DTEND;TZID=America/New_York:20260521T210000
DTSTAMP:20260421T153258
CREATED:20260421T125336Z
LAST-MODIFIED:20260421T125336Z
UID:25560-1779390000-1779397200@piedmontpark.org
SUMMARY:Figure Drawing
DESCRIPTION:Practice figure drawing with a live model in this self-directed session featuring both short gesture and longer poses—bring your own materials.
URL:https://piedmontpark.org/event/figure-drawing-17/
LOCATION:Community Center
GEO:33.7838653;-84.3786481
END:VEVENT
BEGIN:VEVENT
DTSTART;VALUE=DATE:20260523
DTEND;VALUE=DATE:20260526
DTSTAMP:20260421T153258
CREATED:20260421T125915Z
LAST-MODIFIED:20260421T125915Z
UID:25570-1779494400-1779753599@piedmontpark.org
SUMMARY:Jazz Fest
DESCRIPTION:This event is hosted by an external partner and is not produced by Piedmont Park Conservancy.
URL:https://piedmontpark.org/event/jazz-fest/
END:VEVENT
BEGIN:VEVENT
DTSTART;TZID=America/New_York:20260523T090000
DTEND;TZID=America/New_York:20260523T190000
DTSTAMP:20260421T153258
CREATED:20260421T125538Z
LAST-MODIFIED:20260421T125820Z
UID:25563-1779526800-1779562800@piedmontpark.org
SUMMARY:Pool Opens for Pool Pass Holders
DESCRIPTION:
URL:https://piedmontpark.org/event/pool-opens-for-pool-pass-holders-2/
END:VEVENT
BEGIN:VEVENT
DTSTART;TZID=America/New_York:20260524T120000
DTEND;TZID=America/New_York:20260524T164500
DTSTAMP:20260421T153258
CREATED:20260421T125715Z
LAST-MODIFIED:20260421T125715Z
UID:25566-1779624000-1779641100@piedmontpark.org
SUMMARY:Pool Opens
DESCRIPTION:
URL:https://piedmontpark.org/event/pool-opens-3/
END:VEVENT
END:VCALENDAR