BEGIN:VCALENDAR
VERSION:2.0
PRODID:-//Piedmont Park Conservancy, Inc. - ECPv6.15.20//NONSGML v1.0//EN
CALSCALE:GREGORIAN
METHOD:PUBLISH
X-WR-CALNAME:Piedmont Park Conservancy, Inc.
X-ORIGINAL-URL:https://piedmontpark.org
X-WR-CALDESC:Events for Piedmont Park Conservancy, Inc.
REFRESH-INTERVAL;VALUE=DURATION:PT1H
X-Robots-Tag:noindex
X-PUBLISHED-TTL:PT1H
BEGIN:VTIMEZONE
TZID:UTC
BEGIN:STANDARD
TZOFFSETFROM:+0000
TZOFFSETTO:+0000
TZNAME:UTC
DTSTART:20240101T000000
END:STANDARD
END:VTIMEZONE
BEGIN:VTIMEZONE
TZID:America/New_York
BEGIN:DAYLIGHT
TZOFFSETFROM:-0500
TZOFFSETTO:-0400
TZNAME:EDT
DTSTART:20240310T070000
END:DAYLIGHT
BEGIN:STANDARD
TZOFFSETFROM:-0400
TZOFFSETTO:-0500
TZNAME:EST
DTSTART:20241103T060000
END:STANDARD
BEGIN:DAYLIGHT
TZOFFSETFROM:-0500
TZOFFSETTO:-0400
TZNAME:EDT
DTSTART:20250309T070000
END:DAYLIGHT
BEGIN:STANDARD
TZOFFSETFROM:-0400
TZOFFSETTO:-0500
TZNAME:EST
DTSTART:20251102T060000
END:STANDARD
BEGIN:DAYLIGHT
TZOFFSETFROM:-0500
TZOFFSETTO:-0400
TZNAME:EDT
DTSTART:20260308T070000
END:DAYLIGHT
BEGIN:STANDARD
TZOFFSETFROM:-0400
TZOFFSETTO:-0500
TZNAME:EST
DTSTART:20261101T060000
END:STANDARD
END:VTIMEZONE
BEGIN:VEVENT
DTSTART;TZID=UTC:20250909T100000
DTEND;TZID=UTC:20250909T104500
DTSTAMP:20260420T013830
CREATED:20241203T151850Z
LAST-MODIFIED:20241203T151850Z
UID:20234-1757412000-1757414700@piedmontpark.org
SUMMARY:Weekly Walking Club
DESCRIPTION:Join the Conservancy and fellow park fans for a weekly group walk in Piedmont Park! \nEvery Tuesday\, we host a 45-minute walk on Tuesdays at 10am. Each walk will feature different popular paths while answering any questions you may have about Piedmont Park or the Conservancy. \nFor questions\, please contact Hannah Franklin at programs@piedmontpark.org. \nMeet in front of Dockside near the 12th gate entrance\, five minutes prior to departure. Walk up\, no RSVP required.
URL:https://piedmontpark.org/event/weekly-walking-club-2/2025-09-09/
LOCATION:Dockside\, Atlanta\, GA\, 30357\, United States
CATEGORIES:Conservancy Events,Fitness Events,Free Events
ATTACH;FMTTYPE=image/jpeg:https://piedmontpark.org/wp-content/uploads/2018/12/Walker-Woods-4.jpg
END:VEVENT
BEGIN:VEVENT
DTSTART;TZID=America/New_York:20250909T180000
DTEND;TZID=America/New_York:20250909T210000
DTSTAMP:20260420T013830
CREATED:20250827T140421Z
LAST-MODIFIED:20250827T140421Z
UID:22691-1757440800-1757451600@piedmontpark.org
SUMMARY:Community Art Night RSVP: 9/9
DESCRIPTION:Join the Conservancy for monthly creative hours at the Park! Our doors are open to all at this free event designed to build community + create. Bring any medium/materials you’d like\, make a mess\, make new friends! We will provide space\, great music\, and good vibes. \nFree program\n9/9/2025… 6PM-9PM – 1071 Piedmont Ave NE Atlanta\, GA 30309\n16+\, Provided by Piedmont Park Conservancy
URL:https://piedmontpark.org/event/community-art-night-rsvp-9-9/
END:VEVENT
BEGIN:VEVENT
DTSTART;TZID=America/New_York:20250910T183000
DTEND;TZID=America/New_York:20250910T203000
DTSTAMP:20260420T013830
CREATED:20250804T142113Z
LAST-MODIFIED:20250804T142113Z
UID:22566-1757529000-1757536200@piedmontpark.org
SUMMARY:Paint + Sip: Dragonfly
DESCRIPTION:Benefit Piedmont Park and enjoy creating at our Paint + Sip program! We’ll paint using our iconic Park as inspiration – and you’ll take home a one of a kind piece! This session will feature instruction on how to paint a Park regular: a dragonfly! \n\nOur evening will include instruction and all materials will be included. Participants are welcome to BYOB (beer and wine only – no spirits). We will provide water\, ice\, and cups/plasticware as needed. Program requires 15 participants minimum to run. Reach out to the listed contact below for information/assistance with booking this program as a group activity.
URL:https://piedmontpark.org/event/paint-sip-dragonfly/
END:VEVENT
BEGIN:VEVENT
DTSTART;TZID=America/New_York:20250911T180000
DTEND;TZID=America/New_York:20250911T190000
DTSTAMP:20260420T013830
CREATED:20250303T162512Z
LAST-MODIFIED:20250626T172853Z
UID:21183-1757613600-1757617200@piedmontpark.org
SUMMARY:Yoga in the Park
DESCRIPTION:Join the Conservancy for free Yoga on the Active Oval! Grab your mat and head over to the Active Oval\, because you’re bound to meet a ton of great people and maybe even find that workout buddy you’ve been searching for!
URL:https://piedmontpark.org/event/yoga-in-the-park/2025-09-11/
LOCATION:Active Oval
END:VEVENT
BEGIN:VEVENT
DTSTART;TZID=America/New_York:20250913T074500
DTEND;TZID=America/New_York:20250913T103000
DTSTAMP:20260420T013830
CREATED:20250604T182946Z
LAST-MODIFIED:20250604T182946Z
UID:22263-1757749500-1757759400@piedmontpark.org
SUMMARY:ZERO Prostate Cancer Run/Walk Atlanta
DESCRIPTION:http://support.zerocancer.org/site/SPageNavigator/RunWalk_Home \nEvent Description: It starts with you. It starts with community. It starts with coming together. You’re joining the ONLY national prostate cancer event\, raising funds\, sharing hope\, and inspiring bold action to sav lives from prostate cancer. \nEvent Location: Piedmont Park Conservancy(Promenade) 1322 Monroe Drive NE\, Atlanta\, GA 30306 \n*EVENT PERMIT PENDING*
URL:https://piedmontpark.org/event/zero-prostate-cancer-run-walk-atlanta/
END:VEVENT
BEGIN:VEVENT
DTSTART;TZID=America/New_York:20250913T090000
DTEND;TZID=America/New_York:20250913T130000
DTSTAMP:20260420T013830
CREATED:20250129T161731Z
LAST-MODIFIED:20251021T154957Z
UID:20733-1757754000-1757768400@piedmontpark.org
SUMMARY:Green Market
DESCRIPTION:Voted one of the top five farmer’s markets in Atlanta by Access Atlanta\, Green Market encourages sustainable communities in the most basic way – by providing shoppers with direct access to local farmers and small businesses. Come walk the market and enjoy the fun every Saturday from 9 am – 1 pm\, March – December 2025. \nEnjoy local farmers\, bakers\, jams\, preserves and artisan goods. There is something for everyone. While you shop\, you can enjoy prepared foods and drinks for breakfast and lunch.
URL:https://piedmontpark.org/event/green-market-6/2025-09-13/
LOCATION:12th Street & Piedmont Avenue
END:VEVENT
BEGIN:VEVENT
DTSTART;TZID=America/New_York:20250913T100000
DTEND;TZID=America/New_York:20250913T110000
DTSTAMP:20260420T013830
CREATED:20250219T152827Z
LAST-MODIFIED:20251027T134029Z
UID:21021-1757757600-1757761200@piedmontpark.org
SUMMARY:Piedmont Park Guided History Tour
DESCRIPTION:﻿﻿Saturdays\, March – December | 10 am; 60 – 90 mins | Free \nThe Piedmont Park History Walking Tours include an introduction to the park’s vibrant past and present. The tours are led by Piedmont Park Conservancy Docents. Join us and discover how Piedmont Park’s rich history is undeniably intertwined with the development of Atlanta. Together\, we’ll explore the fascinating historical and physical evolution of iconic Piedmont Park from forest to farm to fairgrounds for the Piedmont Exposition of 1887 and the Cotton States and International Exposition of 1895\, to Atlanta’s premier urban green space. \nMeet in front of the Visitor center which is located near the 12th Street Entrance gate. \n*Registration closes at 12pm the day before the tour. Walk ups are welcome but space is not guaranteed.\nYou will receive an email reminder a few days before your scheduled tour. Any questions please send an email to volunteer@piedmontpark.org. Tours are scheduled rain or shine. If a tour is cancelled you will receive an email  notification.
URL:https://piedmontpark.org/event/piedmont-park-guided-history-tour-7/2025-09-13/
END:VEVENT
END:VCALENDAR