BEGIN:VCALENDAR
VERSION:2.0
PRODID:-//Piedmont Park Conservancy, Inc. - ECPv6.15.20//NONSGML v1.0//EN
CALSCALE:GREGORIAN
METHOD:PUBLISH
X-WR-CALNAME:Piedmont Park Conservancy, Inc.
X-ORIGINAL-URL:https://piedmontpark.org
X-WR-CALDESC:Events for Piedmont Park Conservancy, Inc.
REFRESH-INTERVAL;VALUE=DURATION:PT1H
X-Robots-Tag:noindex
X-PUBLISHED-TTL:PT1H
BEGIN:VTIMEZONE
TZID:America/New_York
BEGIN:DAYLIGHT
TZOFFSETFROM:-0500
TZOFFSETTO:-0400
TZNAME:EDT
DTSTART:20240310T070000
END:DAYLIGHT
BEGIN:STANDARD
TZOFFSETFROM:-0400
TZOFFSETTO:-0500
TZNAME:EST
DTSTART:20241103T060000
END:STANDARD
BEGIN:DAYLIGHT
TZOFFSETFROM:-0500
TZOFFSETTO:-0400
TZNAME:EDT
DTSTART:20250309T070000
END:DAYLIGHT
BEGIN:STANDARD
TZOFFSETFROM:-0400
TZOFFSETTO:-0500
TZNAME:EST
DTSTART:20251102T060000
END:STANDARD
BEGIN:DAYLIGHT
TZOFFSETFROM:-0500
TZOFFSETTO:-0400
TZNAME:EDT
DTSTART:20260308T070000
END:DAYLIGHT
BEGIN:STANDARD
TZOFFSETFROM:-0400
TZOFFSETTO:-0500
TZNAME:EST
DTSTART:20261101T060000
END:STANDARD
END:VTIMEZONE
BEGIN:VEVENT
DTSTART;TZID=America/New_York:20251213T090000
DTEND;TZID=America/New_York:20251213T130000
DTSTAMP:20260425T102558
CREATED:20250129T161731Z
LAST-MODIFIED:20251021T154958Z
UID:20743-1765616400-1765630800@piedmontpark.org
SUMMARY:Green Market
DESCRIPTION:Voted one of the top five farmer’s markets in Atlanta by Access Atlanta\, Green Market encourages sustainable communities in the most basic way – by providing shoppers with direct access to local farmers and small businesses. Come walk the market and enjoy the fun every Saturday from 9 am – 1 pm\, March – December 2025. \nEnjoy local farmers\, bakers\, jams\, preserves and artisan goods. There is something for everyone. While you shop\, you can enjoy prepared foods and drinks for breakfast and lunch.
URL:https://piedmontpark.org/event/green-market-6/2025-12-13/
LOCATION:12th Street & Piedmont Avenue
END:VEVENT
BEGIN:VEVENT
DTSTART;TZID=America/New_York:20251206T090000
DTEND;TZID=America/New_York:20251206T130000
DTSTAMP:20260425T102558
CREATED:20250129T161731Z
LAST-MODIFIED:20251021T154958Z
UID:20742-1765011600-1765026000@piedmontpark.org
SUMMARY:Green Market
DESCRIPTION:Voted one of the top five farmer’s markets in Atlanta by Access Atlanta\, Green Market encourages sustainable communities in the most basic way – by providing shoppers with direct access to local farmers and small businesses. Come walk the market and enjoy the fun every Saturday from 9 am – 1 pm\, March – December 2025. \nEnjoy local farmers\, bakers\, jams\, preserves and artisan goods. There is something for everyone. While you shop\, you can enjoy prepared foods and drinks for breakfast and lunch.
URL:https://piedmontpark.org/event/green-market-6/2025-12-06/
LOCATION:12th Street & Piedmont Avenue
END:VEVENT
BEGIN:VEVENT
DTSTART;TZID=America/New_York:20251122T090000
DTEND;TZID=America/New_York:20251122T130000
DTSTAMP:20260425T102558
CREATED:20250129T161731Z
LAST-MODIFIED:20251021T154957Z
UID:20741-1763802000-1763816400@piedmontpark.org
SUMMARY:Green Market
DESCRIPTION:Voted one of the top five farmer’s markets in Atlanta by Access Atlanta\, Green Market encourages sustainable communities in the most basic way – by providing shoppers with direct access to local farmers and small businesses. Come walk the market and enjoy the fun every Saturday from 9 am – 1 pm\, March – December 2025. \nEnjoy local farmers\, bakers\, jams\, preserves and artisan goods. There is something for everyone. While you shop\, you can enjoy prepared foods and drinks for breakfast and lunch.
URL:https://piedmontpark.org/event/green-market-6/2025-11-22/
LOCATION:12th Street & Piedmont Avenue
END:VEVENT
BEGIN:VEVENT
DTSTART;TZID=America/New_York:20251115T090000
DTEND;TZID=America/New_York:20251115T130000
DTSTAMP:20260425T102558
CREATED:20250129T161731Z
LAST-MODIFIED:20251021T154957Z
UID:20740-1763197200-1763211600@piedmontpark.org
SUMMARY:Green Market
DESCRIPTION:Voted one of the top five farmer’s markets in Atlanta by Access Atlanta\, Green Market encourages sustainable communities in the most basic way – by providing shoppers with direct access to local farmers and small businesses. Come walk the market and enjoy the fun every Saturday from 9 am – 1 pm\, March – December 2025. \nEnjoy local farmers\, bakers\, jams\, preserves and artisan goods. There is something for everyone. While you shop\, you can enjoy prepared foods and drinks for breakfast and lunch.
URL:https://piedmontpark.org/event/green-market-6/2025-11-15/
LOCATION:12th Street & Piedmont Avenue
END:VEVENT
BEGIN:VEVENT
DTSTART;TZID=America/New_York:20251108T090000
DTEND;TZID=America/New_York:20251108T130000
DTSTAMP:20260425T102558
CREATED:20250129T161731Z
LAST-MODIFIED:20251021T154957Z
UID:20739-1762592400-1762606800@piedmontpark.org
SUMMARY:Green Market
DESCRIPTION:Voted one of the top five farmer’s markets in Atlanta by Access Atlanta\, Green Market encourages sustainable communities in the most basic way – by providing shoppers with direct access to local farmers and small businesses. Come walk the market and enjoy the fun every Saturday from 9 am – 1 pm\, March – December 2025. \nEnjoy local farmers\, bakers\, jams\, preserves and artisan goods. There is something for everyone. While you shop\, you can enjoy prepared foods and drinks for breakfast and lunch.
URL:https://piedmontpark.org/event/green-market-6/2025-11-08/
LOCATION:12th Street & Piedmont Avenue
END:VEVENT
BEGIN:VEVENT
DTSTART;TZID=America/New_York:20251101T090000
DTEND;TZID=America/New_York:20251101T130000
DTSTAMP:20260425T102558
CREATED:20250129T161731Z
LAST-MODIFIED:20251021T154957Z
UID:20738-1761987600-1762002000@piedmontpark.org
SUMMARY:Green Market
DESCRIPTION:Voted one of the top five farmer’s markets in Atlanta by Access Atlanta\, Green Market encourages sustainable communities in the most basic way – by providing shoppers with direct access to local farmers and small businesses. Come walk the market and enjoy the fun every Saturday from 9 am – 1 pm\, March – December 2025. \nEnjoy local farmers\, bakers\, jams\, preserves and artisan goods. There is something for everyone. While you shop\, you can enjoy prepared foods and drinks for breakfast and lunch.
URL:https://piedmontpark.org/event/green-market-6/2025-11-01/
LOCATION:12th Street & Piedmont Avenue
END:VEVENT
BEGIN:VEVENT
DTSTART;TZID=America/New_York:20251018T090000
DTEND;TZID=America/New_York:20251018T130000
DTSTAMP:20260425T102558
CREATED:20250129T161731Z
LAST-MODIFIED:20251021T154957Z
UID:20736-1760778000-1760792400@piedmontpark.org
SUMMARY:Green Market
DESCRIPTION:Voted one of the top five farmer’s markets in Atlanta by Access Atlanta\, Green Market encourages sustainable communities in the most basic way – by providing shoppers with direct access to local farmers and small businesses. Come walk the market and enjoy the fun every Saturday from 9 am – 1 pm\, March – December 2025. \nEnjoy local farmers\, bakers\, jams\, preserves and artisan goods. There is something for everyone. While you shop\, you can enjoy prepared foods and drinks for breakfast and lunch.
URL:https://piedmontpark.org/event/green-market-6/2025-10-18/
LOCATION:12th Street & Piedmont Avenue
END:VEVENT
BEGIN:VEVENT
DTSTART;TZID=America/New_York:20251004T090000
DTEND;TZID=America/New_York:20251004T130000
DTSTAMP:20260425T102558
CREATED:20250129T161731Z
LAST-MODIFIED:20251021T154957Z
UID:20735-1759568400-1759582800@piedmontpark.org
SUMMARY:Green Market
DESCRIPTION:Voted one of the top five farmer’s markets in Atlanta by Access Atlanta\, Green Market encourages sustainable communities in the most basic way – by providing shoppers with direct access to local farmers and small businesses. Come walk the market and enjoy the fun every Saturday from 9 am – 1 pm\, March – December 2025. \nEnjoy local farmers\, bakers\, jams\, preserves and artisan goods. There is something for everyone. While you shop\, you can enjoy prepared foods and drinks for breakfast and lunch.
URL:https://piedmontpark.org/event/green-market-6/2025-10-04/
LOCATION:12th Street & Piedmont Avenue
END:VEVENT
BEGIN:VEVENT
DTSTART;TZID=America/New_York:20250927T090000
DTEND;TZID=America/New_York:20250927T130000
DTSTAMP:20260425T102558
CREATED:20250129T161731Z
LAST-MODIFIED:20251021T154957Z
UID:20734-1758963600-1758978000@piedmontpark.org
SUMMARY:Green Market
DESCRIPTION:Voted one of the top five farmer’s markets in Atlanta by Access Atlanta\, Green Market encourages sustainable communities in the most basic way – by providing shoppers with direct access to local farmers and small businesses. Come walk the market and enjoy the fun every Saturday from 9 am – 1 pm\, March – December 2025. \nEnjoy local farmers\, bakers\, jams\, preserves and artisan goods. There is something for everyone. While you shop\, you can enjoy prepared foods and drinks for breakfast and lunch.
URL:https://piedmontpark.org/event/green-market-6/2025-09-27/
LOCATION:12th Street & Piedmont Avenue
END:VEVENT
BEGIN:VEVENT
DTSTART;TZID=America/New_York:20250913T090000
DTEND;TZID=America/New_York:20250913T130000
DTSTAMP:20260425T102558
CREATED:20250129T161731Z
LAST-MODIFIED:20251021T154957Z
UID:20733-1757754000-1757768400@piedmontpark.org
SUMMARY:Green Market
DESCRIPTION:Voted one of the top five farmer’s markets in Atlanta by Access Atlanta\, Green Market encourages sustainable communities in the most basic way – by providing shoppers with direct access to local farmers and small businesses. Come walk the market and enjoy the fun every Saturday from 9 am – 1 pm\, March – December 2025. \nEnjoy local farmers\, bakers\, jams\, preserves and artisan goods. There is something for everyone. While you shop\, you can enjoy prepared foods and drinks for breakfast and lunch.
URL:https://piedmontpark.org/event/green-market-6/2025-09-13/
LOCATION:12th Street & Piedmont Avenue
END:VEVENT
BEGIN:VEVENT
DTSTART;TZID=America/New_York:20250906T090000
DTEND;TZID=America/New_York:20250906T130000
DTSTAMP:20260425T102558
CREATED:20250129T161731Z
LAST-MODIFIED:20251021T154956Z
UID:20732-1757149200-1757163600@piedmontpark.org
SUMMARY:Green Market
DESCRIPTION:Voted one of the top five farmer’s markets in Atlanta by Access Atlanta\, Green Market encourages sustainable communities in the most basic way – by providing shoppers with direct access to local farmers and small businesses. Come walk the market and enjoy the fun every Saturday from 9 am – 1 pm\, March – December 2025. \nEnjoy local farmers\, bakers\, jams\, preserves and artisan goods. There is something for everyone. While you shop\, you can enjoy prepared foods and drinks for breakfast and lunch.
URL:https://piedmontpark.org/event/green-market-6/2025-09-06/
LOCATION:12th Street & Piedmont Avenue
END:VEVENT
BEGIN:VEVENT
DTSTART;TZID=America/New_York:20250830T090000
DTEND;TZID=America/New_York:20250830T130000
DTSTAMP:20260425T102558
CREATED:20250129T161731Z
LAST-MODIFIED:20251021T154955Z
UID:20731-1756544400-1756558800@piedmontpark.org
SUMMARY:Green Market
DESCRIPTION:Voted one of the top five farmer’s markets in Atlanta by Access Atlanta\, Green Market encourages sustainable communities in the most basic way – by providing shoppers with direct access to local farmers and small businesses. Come walk the market and enjoy the fun every Saturday from 9 am – 1 pm\, March – December 2025. \nEnjoy local farmers\, bakers\, jams\, preserves and artisan goods. There is something for everyone. While you shop\, you can enjoy prepared foods and drinks for breakfast and lunch.
URL:https://piedmontpark.org/event/green-market-6/2025-08-30/
LOCATION:12th Street & Piedmont Avenue
END:VEVENT
BEGIN:VEVENT
DTSTART;TZID=America/New_York:20250823T090000
DTEND;TZID=America/New_York:20250823T130000
DTSTAMP:20260425T102558
CREATED:20250129T161731Z
LAST-MODIFIED:20251021T154955Z
UID:20730-1755939600-1755954000@piedmontpark.org
SUMMARY:Green Market
DESCRIPTION:Voted one of the top five farmer’s markets in Atlanta by Access Atlanta\, Green Market encourages sustainable communities in the most basic way – by providing shoppers with direct access to local farmers and small businesses. Come walk the market and enjoy the fun every Saturday from 9 am – 1 pm\, March – December 2025. \nEnjoy local farmers\, bakers\, jams\, preserves and artisan goods. There is something for everyone. While you shop\, you can enjoy prepared foods and drinks for breakfast and lunch.
URL:https://piedmontpark.org/event/green-market-6/2025-08-23/
LOCATION:12th Street & Piedmont Avenue
END:VEVENT
BEGIN:VEVENT
DTSTART;TZID=America/New_York:20250816T090000
DTEND;TZID=America/New_York:20250816T130000
DTSTAMP:20260425T102558
CREATED:20250129T161731Z
LAST-MODIFIED:20251021T154955Z
UID:20729-1755334800-1755349200@piedmontpark.org
SUMMARY:Green Market
DESCRIPTION:Voted one of the top five farmer’s markets in Atlanta by Access Atlanta\, Green Market encourages sustainable communities in the most basic way – by providing shoppers with direct access to local farmers and small businesses. Come walk the market and enjoy the fun every Saturday from 9 am – 1 pm\, March – December 2025. \nEnjoy local farmers\, bakers\, jams\, preserves and artisan goods. There is something for everyone. While you shop\, you can enjoy prepared foods and drinks for breakfast and lunch.
URL:https://piedmontpark.org/event/green-market-6/2025-08-16/
LOCATION:12th Street & Piedmont Avenue
END:VEVENT
BEGIN:VEVENT
DTSTART;TZID=America/New_York:20250809T090000
DTEND;TZID=America/New_York:20250809T130000
DTSTAMP:20260425T102558
CREATED:20250129T161731Z
LAST-MODIFIED:20251021T154954Z
UID:20728-1754730000-1754744400@piedmontpark.org
SUMMARY:Green Market
DESCRIPTION:Voted one of the top five farmer’s markets in Atlanta by Access Atlanta\, Green Market encourages sustainable communities in the most basic way – by providing shoppers with direct access to local farmers and small businesses. Come walk the market and enjoy the fun every Saturday from 9 am – 1 pm\, March – December 2025. \nEnjoy local farmers\, bakers\, jams\, preserves and artisan goods. There is something for everyone. While you shop\, you can enjoy prepared foods and drinks for breakfast and lunch.
URL:https://piedmontpark.org/event/green-market-6/2025-08-09/
LOCATION:12th Street & Piedmont Avenue
END:VEVENT
BEGIN:VEVENT
DTSTART;TZID=America/New_York:20250802T090000
DTEND;TZID=America/New_York:20250802T130000
DTSTAMP:20260425T102558
CREATED:20250129T161731Z
LAST-MODIFIED:20251021T154954Z
UID:20727-1754125200-1754139600@piedmontpark.org
SUMMARY:Green Market
DESCRIPTION:Voted one of the top five farmer’s markets in Atlanta by Access Atlanta\, Green Market encourages sustainable communities in the most basic way – by providing shoppers with direct access to local farmers and small businesses. Come walk the market and enjoy the fun every Saturday from 9 am – 1 pm\, March – December 2025. \nEnjoy local farmers\, bakers\, jams\, preserves and artisan goods. There is something for everyone. While you shop\, you can enjoy prepared foods and drinks for breakfast and lunch.
URL:https://piedmontpark.org/event/green-market-6/2025-08-02/
LOCATION:12th Street & Piedmont Avenue
END:VEVENT
BEGIN:VEVENT
DTSTART;TZID=America/New_York:20250726T090000
DTEND;TZID=America/New_York:20250726T130000
DTSTAMP:20260425T102558
CREATED:20250129T161731Z
LAST-MODIFIED:20251021T154954Z
UID:20726-1753520400-1753534800@piedmontpark.org
SUMMARY:Green Market
DESCRIPTION:Voted one of the top five farmer’s markets in Atlanta by Access Atlanta\, Green Market encourages sustainable communities in the most basic way – by providing shoppers with direct access to local farmers and small businesses. Come walk the market and enjoy the fun every Saturday from 9 am – 1 pm\, March – December 2025. \nEnjoy local farmers\, bakers\, jams\, preserves and artisan goods. There is something for everyone. While you shop\, you can enjoy prepared foods and drinks for breakfast and lunch.
URL:https://piedmontpark.org/event/green-market-6/2025-07-26/
LOCATION:12th Street & Piedmont Avenue
END:VEVENT
BEGIN:VEVENT
DTSTART;TZID=America/New_York:20250719T090000
DTEND;TZID=America/New_York:20250719T130000
DTSTAMP:20260425T102558
CREATED:20250129T161731Z
LAST-MODIFIED:20251021T154954Z
UID:20725-1752915600-1752930000@piedmontpark.org
SUMMARY:Green Market
DESCRIPTION:Voted one of the top five farmer’s markets in Atlanta by Access Atlanta\, Green Market encourages sustainable communities in the most basic way – by providing shoppers with direct access to local farmers and small businesses. Come walk the market and enjoy the fun every Saturday from 9 am – 1 pm\, March – December 2025. \nEnjoy local farmers\, bakers\, jams\, preserves and artisan goods. There is something for everyone. While you shop\, you can enjoy prepared foods and drinks for breakfast and lunch.
URL:https://piedmontpark.org/event/green-market-6/2025-07-19/
LOCATION:12th Street & Piedmont Avenue
END:VEVENT
BEGIN:VEVENT
DTSTART;TZID=America/New_York:20250712T090000
DTEND;TZID=America/New_York:20250712T130000
DTSTAMP:20260425T102558
CREATED:20250129T161731Z
LAST-MODIFIED:20251021T154954Z
UID:20724-1752310800-1752325200@piedmontpark.org
SUMMARY:Green Market
DESCRIPTION:Voted one of the top five farmer’s markets in Atlanta by Access Atlanta\, Green Market encourages sustainable communities in the most basic way – by providing shoppers with direct access to local farmers and small businesses. Come walk the market and enjoy the fun every Saturday from 9 am – 1 pm\, March – December 2025. \nEnjoy local farmers\, bakers\, jams\, preserves and artisan goods. There is something for everyone. While you shop\, you can enjoy prepared foods and drinks for breakfast and lunch.
URL:https://piedmontpark.org/event/green-market-6/2025-07-12/
LOCATION:12th Street & Piedmont Avenue
END:VEVENT
BEGIN:VEVENT
DTSTART;TZID=America/New_York:20250628T090000
DTEND;TZID=America/New_York:20250628T130000
DTSTAMP:20260425T102558
CREATED:20250129T161731Z
LAST-MODIFIED:20251021T154954Z
UID:20723-1751101200-1751115600@piedmontpark.org
SUMMARY:Green Market
DESCRIPTION:Voted one of the top five farmer’s markets in Atlanta by Access Atlanta\, Green Market encourages sustainable communities in the most basic way – by providing shoppers with direct access to local farmers and small businesses. Come walk the market and enjoy the fun every Saturday from 9 am – 1 pm\, March – December 2025. \nEnjoy local farmers\, bakers\, jams\, preserves and artisan goods. There is something for everyone. While you shop\, you can enjoy prepared foods and drinks for breakfast and lunch.
URL:https://piedmontpark.org/event/green-market-6/2025-06-28/
LOCATION:12th Street & Piedmont Avenue
END:VEVENT
BEGIN:VEVENT
DTSTART;TZID=America/New_York:20250621T090000
DTEND;TZID=America/New_York:20250621T130000
DTSTAMP:20260425T102558
CREATED:20250129T161731Z
LAST-MODIFIED:20251021T154954Z
UID:20720-1750496400-1750510800@piedmontpark.org
SUMMARY:Green Market
DESCRIPTION:Voted one of the top five farmer’s markets in Atlanta by Access Atlanta\, Green Market encourages sustainable communities in the most basic way – by providing shoppers with direct access to local farmers and small businesses. Come walk the market and enjoy the fun every Saturday from 9 am – 1 pm\, March – December 2025. \nEnjoy local farmers\, bakers\, jams\, preserves and artisan goods. There is something for everyone. While you shop\, you can enjoy prepared foods and drinks for breakfast and lunch.
URL:https://piedmontpark.org/event/green-market-6/2025-06-21/
LOCATION:12th Street & Piedmont Avenue
END:VEVENT
BEGIN:VEVENT
DTSTART;TZID=America/New_York:20250614T090000
DTEND;TZID=America/New_York:20250614T130000
DTSTAMP:20260425T102558
CREATED:20250129T161731Z
LAST-MODIFIED:20251021T154951Z
UID:20719-1749891600-1749906000@piedmontpark.org
SUMMARY:Green Market
DESCRIPTION:Voted one of the top five farmer’s markets in Atlanta by Access Atlanta\, Green Market encourages sustainable communities in the most basic way – by providing shoppers with direct access to local farmers and small businesses. Come walk the market and enjoy the fun every Saturday from 9 am – 1 pm\, March – December 2025. \nEnjoy local farmers\, bakers\, jams\, preserves and artisan goods. There is something for everyone. While you shop\, you can enjoy prepared foods and drinks for breakfast and lunch.
URL:https://piedmontpark.org/event/green-market-6/2025-06-14/
LOCATION:12th Street & Piedmont Avenue
END:VEVENT
BEGIN:VEVENT
DTSTART;TZID=America/New_York:20250607T090000
DTEND;TZID=America/New_York:20250607T130000
DTSTAMP:20260425T102558
CREATED:20250129T161731Z
LAST-MODIFIED:20251021T154951Z
UID:20718-1749286800-1749301200@piedmontpark.org
SUMMARY:Green Market
DESCRIPTION:Voted one of the top five farmer’s markets in Atlanta by Access Atlanta\, Green Market encourages sustainable communities in the most basic way – by providing shoppers with direct access to local farmers and small businesses. Come walk the market and enjoy the fun every Saturday from 9 am – 1 pm\, March – December 2025. \nEnjoy local farmers\, bakers\, jams\, preserves and artisan goods. There is something for everyone. While you shop\, you can enjoy prepared foods and drinks for breakfast and lunch.
URL:https://piedmontpark.org/event/green-market-6/2025-06-07/
LOCATION:12th Street & Piedmont Avenue
END:VEVENT
BEGIN:VEVENT
DTSTART;TZID=America/New_York:20250531T090000
DTEND;TZID=America/New_York:20250531T130000
DTSTAMP:20260425T102558
CREATED:20250129T161731Z
LAST-MODIFIED:20251021T154951Z
UID:20717-1748682000-1748696400@piedmontpark.org
SUMMARY:Green Market
DESCRIPTION:Voted one of the top five farmer’s markets in Atlanta by Access Atlanta\, Green Market encourages sustainable communities in the most basic way – by providing shoppers with direct access to local farmers and small businesses. Come walk the market and enjoy the fun every Saturday from 9 am – 1 pm\, March – December 2025. \nEnjoy local farmers\, bakers\, jams\, preserves and artisan goods. There is something for everyone. While you shop\, you can enjoy prepared foods and drinks for breakfast and lunch.
URL:https://piedmontpark.org/event/green-market-6/2025-05-31/
LOCATION:12th Street & Piedmont Avenue
END:VEVENT
BEGIN:VEVENT
DTSTART;TZID=America/New_York:20250517T090000
DTEND;TZID=America/New_York:20250517T130000
DTSTAMP:20260425T102558
CREATED:20250129T161731Z
LAST-MODIFIED:20251021T154951Z
UID:20716-1747472400-1747486800@piedmontpark.org
SUMMARY:Green Market
DESCRIPTION:Voted one of the top five farmer’s markets in Atlanta by Access Atlanta\, Green Market encourages sustainable communities in the most basic way – by providing shoppers with direct access to local farmers and small businesses. Come walk the market and enjoy the fun every Saturday from 9 am – 1 pm\, March – December 2025. \nEnjoy local farmers\, bakers\, jams\, preserves and artisan goods. There is something for everyone. While you shop\, you can enjoy prepared foods and drinks for breakfast and lunch.
URL:https://piedmontpark.org/event/green-market-6/2025-05-17/
LOCATION:12th Street & Piedmont Avenue
END:VEVENT
BEGIN:VEVENT
DTSTART;TZID=America/New_York:20250510T090000
DTEND;TZID=America/New_York:20250510T130000
DTSTAMP:20260425T102558
CREATED:20250129T161731Z
LAST-MODIFIED:20251021T154950Z
UID:20715-1746867600-1746882000@piedmontpark.org
SUMMARY:Green Market
DESCRIPTION:Voted one of the top five farmer’s markets in Atlanta by Access Atlanta\, Green Market encourages sustainable communities in the most basic way – by providing shoppers with direct access to local farmers and small businesses. Come walk the market and enjoy the fun every Saturday from 9 am – 1 pm\, March – December 2025. \nEnjoy local farmers\, bakers\, jams\, preserves and artisan goods. There is something for everyone. While you shop\, you can enjoy prepared foods and drinks for breakfast and lunch.
URL:https://piedmontpark.org/event/green-market-6/2025-05-10/
LOCATION:12th Street & Piedmont Avenue
END:VEVENT
BEGIN:VEVENT
DTSTART;TZID=America/New_York:20250503T090000
DTEND;TZID=America/New_York:20250503T130000
DTSTAMP:20260425T102558
CREATED:20250129T161731Z
LAST-MODIFIED:20251021T154950Z
UID:20714-1746262800-1746277200@piedmontpark.org
SUMMARY:Green Market
DESCRIPTION:Voted one of the top five farmer’s markets in Atlanta by Access Atlanta\, Green Market encourages sustainable communities in the most basic way – by providing shoppers with direct access to local farmers and small businesses. Come walk the market and enjoy the fun every Saturday from 9 am – 1 pm\, March – December 2025. \nEnjoy local farmers\, bakers\, jams\, preserves and artisan goods. There is something for everyone. While you shop\, you can enjoy prepared foods and drinks for breakfast and lunch.
URL:https://piedmontpark.org/event/green-market-6/2025-05-03/
LOCATION:12th Street & Piedmont Avenue
END:VEVENT
BEGIN:VEVENT
DTSTART;TZID=America/New_York:20250426T090000
DTEND;TZID=America/New_York:20250426T130000
DTSTAMP:20260425T102558
CREATED:20250129T161731Z
LAST-MODIFIED:20251021T154950Z
UID:20713-1745658000-1745672400@piedmontpark.org
SUMMARY:Green Market
DESCRIPTION:Voted one of the top five farmer’s markets in Atlanta by Access Atlanta\, Green Market encourages sustainable communities in the most basic way – by providing shoppers with direct access to local farmers and small businesses. Come walk the market and enjoy the fun every Saturday from 9 am – 1 pm\, March – December 2025. \nEnjoy local farmers\, bakers\, jams\, preserves and artisan goods. There is something for everyone. While you shop\, you can enjoy prepared foods and drinks for breakfast and lunch.
URL:https://piedmontpark.org/event/green-market-6/2025-04-26/
LOCATION:12th Street & Piedmont Avenue
END:VEVENT
BEGIN:VEVENT
DTSTART;TZID=America/New_York:20250419T090000
DTEND;TZID=America/New_York:20250419T130000
DTSTAMP:20260425T102558
CREATED:20250129T161731Z
LAST-MODIFIED:20251021T154950Z
UID:20712-1745053200-1745067600@piedmontpark.org
SUMMARY:Green Market
DESCRIPTION:Voted one of the top five farmer’s markets in Atlanta by Access Atlanta\, Green Market encourages sustainable communities in the most basic way – by providing shoppers with direct access to local farmers and small businesses. Come walk the market and enjoy the fun every Saturday from 9 am – 1 pm\, March – December 2025. \nEnjoy local farmers\, bakers\, jams\, preserves and artisan goods. There is something for everyone. While you shop\, you can enjoy prepared foods and drinks for breakfast and lunch.
URL:https://piedmontpark.org/event/green-market-6/2025-04-19/
LOCATION:12th Street & Piedmont Avenue
END:VEVENT
BEGIN:VEVENT
DTSTART;TZID=America/New_York:20250405T090000
DTEND;TZID=America/New_York:20250405T130000
DTSTAMP:20260425T102558
CREATED:20250129T161731Z
LAST-MODIFIED:20251021T154950Z
UID:20711-1743843600-1743858000@piedmontpark.org
SUMMARY:Green Market
DESCRIPTION:Voted one of the top five farmer’s markets in Atlanta by Access Atlanta\, Green Market encourages sustainable communities in the most basic way – by providing shoppers with direct access to local farmers and small businesses. Come walk the market and enjoy the fun every Saturday from 9 am – 1 pm\, March – December 2025. \nEnjoy local farmers\, bakers\, jams\, preserves and artisan goods. There is something for everyone. While you shop\, you can enjoy prepared foods and drinks for breakfast and lunch.
URL:https://piedmontpark.org/event/green-market-6/2025-04-05/
LOCATION:12th Street & Piedmont Avenue
END:VEVENT
END:VCALENDAR