BEGIN:VCALENDAR
VERSION:2.0
PRODID:-//Piedmont Park Conservancy, Inc. - ECPv6.15.20//NONSGML v1.0//EN
CALSCALE:GREGORIAN
METHOD:PUBLISH
X-WR-CALNAME:Piedmont Park Conservancy, Inc.
X-ORIGINAL-URL:https://piedmontpark.org
X-WR-CALDESC:Events for Piedmont Park Conservancy, Inc.
REFRESH-INTERVAL;VALUE=DURATION:PT1H
X-Robots-Tag:noindex
X-PUBLISHED-TTL:PT1H
BEGIN:VTIMEZONE
TZID:America/New_York
BEGIN:DAYLIGHT
TZOFFSETFROM:-0500
TZOFFSETTO:-0400
TZNAME:EDT
DTSTART:20240310T070000
END:DAYLIGHT
BEGIN:STANDARD
TZOFFSETFROM:-0400
TZOFFSETTO:-0500
TZNAME:EST
DTSTART:20241103T060000
END:STANDARD
BEGIN:DAYLIGHT
TZOFFSETFROM:-0500
TZOFFSETTO:-0400
TZNAME:EDT
DTSTART:20250309T070000
END:DAYLIGHT
BEGIN:STANDARD
TZOFFSETFROM:-0400
TZOFFSETTO:-0500
TZNAME:EST
DTSTART:20251102T060000
END:STANDARD
BEGIN:DAYLIGHT
TZOFFSETFROM:-0500
TZOFFSETTO:-0400
TZNAME:EDT
DTSTART:20260308T070000
END:DAYLIGHT
BEGIN:STANDARD
TZOFFSETFROM:-0400
TZOFFSETTO:-0500
TZNAME:EST
DTSTART:20261101T060000
END:STANDARD
END:VTIMEZONE
BEGIN:VEVENT
DTSTART;TZID=America/New_York:20251214T100000
DTEND;TZID=America/New_York:20251214T170000
DTSTAMP:20260424T231947
CREATED:20251208T162711Z
LAST-MODIFIED:20251208T162711Z
UID:23905-1765706400-1765731600@piedmontpark.org
SUMMARY:Piedmont Holiday Market
DESCRIPTION:Piedmont Holiday Market \nrandallfox2003@yahoo.com \nEvent Description: Annual holiday market. \nEvent Location: Piedmont Park \n*EVENT PERMIT ISSUED*
URL:https://piedmontpark.org/event/piedmont-holiday-market-3/2025-12-14/
END:VEVENT
BEGIN:VEVENT
DTSTART;TZID=America/New_York:20251213T100000
DTEND;TZID=America/New_York:20251213T170000
DTSTAMP:20260424T231947
CREATED:20251208T162711Z
LAST-MODIFIED:20251208T164444Z
UID:23897-1765620000-1765645200@piedmontpark.org
SUMMARY:Piedmont Holiday Market
DESCRIPTION:Piedmont Holiday Market \nrandallfox2003@yahoo.com \nEvent Description: Annual holiday market. \nEvent Location: Piedmont Park \n*EVENT PERMIT ISSUED*
URL:https://piedmontpark.org/event/piedmont-holiday-market-3/2025-12-13/
END:VEVENT
END:VCALENDAR