BEGIN:VCALENDAR
VERSION:2.0
PRODID:-//Piedmont Park Conservancy, Inc. - ECPv6.15.20//NONSGML v1.0//EN
CALSCALE:GREGORIAN
METHOD:PUBLISH
X-ORIGINAL-URL:https://piedmontpark.org
X-WR-CALDESC:Events for Piedmont Park Conservancy, Inc.
REFRESH-INTERVAL;VALUE=DURATION:PT1H
X-Robots-Tag:noindex
X-PUBLISHED-TTL:PT1H
BEGIN:VTIMEZONE
TZID:America/New_York
BEGIN:DAYLIGHT
TZOFFSETFROM:-0500
TZOFFSETTO:-0400
TZNAME:EDT
DTSTART:20230312T070000
END:DAYLIGHT
BEGIN:STANDARD
TZOFFSETFROM:-0400
TZOFFSETTO:-0500
TZNAME:EST
DTSTART:20231105T060000
END:STANDARD
BEGIN:DAYLIGHT
TZOFFSETFROM:-0500
TZOFFSETTO:-0400
TZNAME:EDT
DTSTART:20240310T070000
END:DAYLIGHT
BEGIN:STANDARD
TZOFFSETFROM:-0400
TZOFFSETTO:-0500
TZNAME:EST
DTSTART:20241103T060000
END:STANDARD
BEGIN:DAYLIGHT
TZOFFSETFROM:-0500
TZOFFSETTO:-0400
TZNAME:EDT
DTSTART:20250309T070000
END:DAYLIGHT
BEGIN:STANDARD
TZOFFSETFROM:-0400
TZOFFSETTO:-0500
TZNAME:EST
DTSTART:20251102T060000
END:STANDARD
END:VTIMEZONE
BEGIN:VEVENT
DTSTART;TZID=America/New_York:20240727T080000
DTEND;TZID=America/New_York:20240727T090000
DTSTAMP:20260421T142749
CREATED:20240423T161357Z
LAST-MODIFIED:20240423T161357Z
UID:18237-1722067200-1722070800@piedmontpark.org
SUMMARY:Sweat and Splash 2024 - Full Season
DESCRIPTION:Sweat and Splash at the Piedmont Park Aquatic Center \n\nPiedmont Park’s most popular fitness class is back! This 1 hour strength building\, core sculpting\, heart pumping pool workout is perfect for the summer! Be prepared for for a circuit-training\, total-body class for the first 30 minutes of class (wear tennis shoes). Please bring swimwear for the second half of class.\n\n8:00am to 9:00am **1 HOUR CLASS!!**\nSaturdays June 1-July 27 (Skip Date 7/6/24)\n\n8 classes – $240\n\n\nWhat to Bring to Class\nThis class is a lot of fun in the sun. I’ll bring the motivation and music. You bring a great spirit\, a body ready to burn roughly 1\,000 calories\, and a few other things:\n\nSweat & Splash essentials:\nYoga Mat\nTowel\nSunscreen\nWater\nHat (optional)\nChange of clothes*\n\n*Most participants arrive in swim attire (with coverup or shorts) for initial workout.
URL:https://piedmontpark.org/event/sweat-and-splash-2024-full-season/2024-07-27/
END:VEVENT
BEGIN:VEVENT
DTSTART;TZID=America/New_York:20240720T080000
DTEND;TZID=America/New_York:20240720T090000
DTSTAMP:20260421T142749
CREATED:20240423T161357Z
LAST-MODIFIED:20240423T161357Z
UID:18236-1721462400-1721466000@piedmontpark.org
SUMMARY:Sweat and Splash 2024 - Full Season
DESCRIPTION:Sweat and Splash at the Piedmont Park Aquatic Center \n\nPiedmont Park’s most popular fitness class is back! This 1 hour strength building\, core sculpting\, heart pumping pool workout is perfect for the summer! Be prepared for for a circuit-training\, total-body class for the first 30 minutes of class (wear tennis shoes). Please bring swimwear for the second half of class.\n\n8:00am to 9:00am **1 HOUR CLASS!!**\nSaturdays June 1-July 27 (Skip Date 7/6/24)\n\n8 classes – $240\n\n\nWhat to Bring to Class\nThis class is a lot of fun in the sun. I’ll bring the motivation and music. You bring a great spirit\, a body ready to burn roughly 1\,000 calories\, and a few other things:\n\nSweat & Splash essentials:\nYoga Mat\nTowel\nSunscreen\nWater\nHat (optional)\nChange of clothes*\n\n*Most participants arrive in swim attire (with coverup or shorts) for initial workout.
URL:https://piedmontpark.org/event/sweat-and-splash-2024-full-season/2024-07-20/
END:VEVENT
BEGIN:VEVENT
DTSTART;TZID=America/New_York:20240713T080000
DTEND;TZID=America/New_York:20240713T090000
DTSTAMP:20260421T142749
CREATED:20240423T161357Z
LAST-MODIFIED:20240423T161357Z
UID:18235-1720857600-1720861200@piedmontpark.org
SUMMARY:Sweat and Splash 2024 - Full Season
DESCRIPTION:Sweat and Splash at the Piedmont Park Aquatic Center \n\nPiedmont Park’s most popular fitness class is back! This 1 hour strength building\, core sculpting\, heart pumping pool workout is perfect for the summer! Be prepared for for a circuit-training\, total-body class for the first 30 minutes of class (wear tennis shoes). Please bring swimwear for the second half of class.\n\n8:00am to 9:00am **1 HOUR CLASS!!**\nSaturdays June 1-July 27 (Skip Date 7/6/24)\n\n8 classes – $240\n\n\nWhat to Bring to Class\nThis class is a lot of fun in the sun. I’ll bring the motivation and music. You bring a great spirit\, a body ready to burn roughly 1\,000 calories\, and a few other things:\n\nSweat & Splash essentials:\nYoga Mat\nTowel\nSunscreen\nWater\nHat (optional)\nChange of clothes*\n\n*Most participants arrive in swim attire (with coverup or shorts) for initial workout.
URL:https://piedmontpark.org/event/sweat-and-splash-2024-full-season/2024-07-13/
END:VEVENT
BEGIN:VEVENT
DTSTART;TZID=America/New_York:20240629T080000
DTEND;TZID=America/New_York:20240629T090000
DTSTAMP:20260421T142749
CREATED:20240423T161357Z
LAST-MODIFIED:20240423T161357Z
UID:18234-1719648000-1719651600@piedmontpark.org
SUMMARY:Sweat and Splash 2024 - Full Season
DESCRIPTION:Sweat and Splash at the Piedmont Park Aquatic Center \n\nPiedmont Park’s most popular fitness class is back! This 1 hour strength building\, core sculpting\, heart pumping pool workout is perfect for the summer! Be prepared for for a circuit-training\, total-body class for the first 30 minutes of class (wear tennis shoes). Please bring swimwear for the second half of class.\n\n8:00am to 9:00am **1 HOUR CLASS!!**\nSaturdays June 1-July 27 (Skip Date 7/6/24)\n\n8 classes – $240\n\n\nWhat to Bring to Class\nThis class is a lot of fun in the sun. I’ll bring the motivation and music. You bring a great spirit\, a body ready to burn roughly 1\,000 calories\, and a few other things:\n\nSweat & Splash essentials:\nYoga Mat\nTowel\nSunscreen\nWater\nHat (optional)\nChange of clothes*\n\n*Most participants arrive in swim attire (with coverup or shorts) for initial workout.
URL:https://piedmontpark.org/event/sweat-and-splash-2024-full-season/2024-06-29/
END:VEVENT
BEGIN:VEVENT
DTSTART;TZID=America/New_York:20240622T080000
DTEND;TZID=America/New_York:20240622T090000
DTSTAMP:20260421T142749
CREATED:20240423T161357Z
LAST-MODIFIED:20240423T161357Z
UID:18233-1719043200-1719046800@piedmontpark.org
SUMMARY:Sweat and Splash 2024 - Full Season
DESCRIPTION:Sweat and Splash at the Piedmont Park Aquatic Center \n\nPiedmont Park’s most popular fitness class is back! This 1 hour strength building\, core sculpting\, heart pumping pool workout is perfect for the summer! Be prepared for for a circuit-training\, total-body class for the first 30 minutes of class (wear tennis shoes). Please bring swimwear for the second half of class.\n\n8:00am to 9:00am **1 HOUR CLASS!!**\nSaturdays June 1-July 27 (Skip Date 7/6/24)\n\n8 classes – $240\n\n\nWhat to Bring to Class\nThis class is a lot of fun in the sun. I’ll bring the motivation and music. You bring a great spirit\, a body ready to burn roughly 1\,000 calories\, and a few other things:\n\nSweat & Splash essentials:\nYoga Mat\nTowel\nSunscreen\nWater\nHat (optional)\nChange of clothes*\n\n*Most participants arrive in swim attire (with coverup or shorts) for initial workout.
URL:https://piedmontpark.org/event/sweat-and-splash-2024-full-season/2024-06-22/
END:VEVENT
BEGIN:VEVENT
DTSTART;TZID=America/New_York:20240615T080000
DTEND;TZID=America/New_York:20240615T090000
DTSTAMP:20260421T142749
CREATED:20240423T161357Z
LAST-MODIFIED:20240423T161357Z
UID:18232-1718438400-1718442000@piedmontpark.org
SUMMARY:Sweat and Splash 2024 - Full Season
DESCRIPTION:Sweat and Splash at the Piedmont Park Aquatic Center \n\nPiedmont Park’s most popular fitness class is back! This 1 hour strength building\, core sculpting\, heart pumping pool workout is perfect for the summer! Be prepared for for a circuit-training\, total-body class for the first 30 minutes of class (wear tennis shoes). Please bring swimwear for the second half of class.\n\n8:00am to 9:00am **1 HOUR CLASS!!**\nSaturdays June 1-July 27 (Skip Date 7/6/24)\n\n8 classes – $240\n\n\nWhat to Bring to Class\nThis class is a lot of fun in the sun. I’ll bring the motivation and music. You bring a great spirit\, a body ready to burn roughly 1\,000 calories\, and a few other things:\n\nSweat & Splash essentials:\nYoga Mat\nTowel\nSunscreen\nWater\nHat (optional)\nChange of clothes*\n\n*Most participants arrive in swim attire (with coverup or shorts) for initial workout.
URL:https://piedmontpark.org/event/sweat-and-splash-2024-full-season/2024-06-15/
END:VEVENT
BEGIN:VEVENT
DTSTART;TZID=America/New_York:20240608T080000
DTEND;TZID=America/New_York:20240608T090000
DTSTAMP:20260421T142749
CREATED:20240423T161357Z
LAST-MODIFIED:20240423T161357Z
UID:18231-1717833600-1717837200@piedmontpark.org
SUMMARY:Sweat and Splash 2024 - Full Season
DESCRIPTION:Sweat and Splash at the Piedmont Park Aquatic Center \n\nPiedmont Park’s most popular fitness class is back! This 1 hour strength building\, core sculpting\, heart pumping pool workout is perfect for the summer! Be prepared for for a circuit-training\, total-body class for the first 30 minutes of class (wear tennis shoes). Please bring swimwear for the second half of class.\n\n8:00am to 9:00am **1 HOUR CLASS!!**\nSaturdays June 1-July 27 (Skip Date 7/6/24)\n\n8 classes – $240\n\n\nWhat to Bring to Class\nThis class is a lot of fun in the sun. I’ll bring the motivation and music. You bring a great spirit\, a body ready to burn roughly 1\,000 calories\, and a few other things:\n\nSweat & Splash essentials:\nYoga Mat\nTowel\nSunscreen\nWater\nHat (optional)\nChange of clothes*\n\n*Most participants arrive in swim attire (with coverup or shorts) for initial workout.
URL:https://piedmontpark.org/event/sweat-and-splash-2024-full-season/2024-06-08/
END:VEVENT
BEGIN:VEVENT
DTSTART;TZID=America/New_York:20240601T080000
DTEND;TZID=America/New_York:20240601T090000
DTSTAMP:20260421T142749
CREATED:20240423T161357Z
LAST-MODIFIED:20240423T161357Z
UID:18230-1717228800-1717232400@piedmontpark.org
SUMMARY:Sweat and Splash 2024 - Full Season
DESCRIPTION:Sweat and Splash at the Piedmont Park Aquatic Center \n\nPiedmont Park’s most popular fitness class is back! This 1 hour strength building\, core sculpting\, heart pumping pool workout is perfect for the summer! Be prepared for for a circuit-training\, total-body class for the first 30 minutes of class (wear tennis shoes). Please bring swimwear for the second half of class.\n\n8:00am to 9:00am **1 HOUR CLASS!!**\nSaturdays June 1-July 27 (Skip Date 7/6/24)\n\n8 classes – $240\n\n\nWhat to Bring to Class\nThis class is a lot of fun in the sun. I’ll bring the motivation and music. You bring a great spirit\, a body ready to burn roughly 1\,000 calories\, and a few other things:\n\nSweat & Splash essentials:\nYoga Mat\nTowel\nSunscreen\nWater\nHat (optional)\nChange of clothes*\n\n*Most participants arrive in swim attire (with coverup or shorts) for initial workout.
URL:https://piedmontpark.org/event/sweat-and-splash-2024-full-season/2024-06-01/
END:VEVENT
END:VCALENDAR