BEGIN:VCALENDAR
VERSION:2.0
PRODID:-//Piedmont Park Conservancy, Inc. - ECPv6.15.20//NONSGML v1.0//EN
CALSCALE:GREGORIAN
METHOD:PUBLISH
X-WR-CALNAME:Piedmont Park Conservancy, Inc.
X-ORIGINAL-URL:https://piedmontpark.org
X-WR-CALDESC:Events for Piedmont Park Conservancy, Inc.
REFRESH-INTERVAL;VALUE=DURATION:PT1H
X-Robots-Tag:noindex
X-PUBLISHED-TTL:PT1H
BEGIN:VTIMEZONE
TZID:America/New_York
BEGIN:DAYLIGHT
TZOFFSETFROM:-0500
TZOFFSETTO:-0400
TZNAME:EDT
DTSTART:20240310T070000
END:DAYLIGHT
BEGIN:STANDARD
TZOFFSETFROM:-0400
TZOFFSETTO:-0500
TZNAME:EST
DTSTART:20241103T060000
END:STANDARD
BEGIN:DAYLIGHT
TZOFFSETFROM:-0500
TZOFFSETTO:-0400
TZNAME:EDT
DTSTART:20250309T070000
END:DAYLIGHT
BEGIN:STANDARD
TZOFFSETFROM:-0400
TZOFFSETTO:-0500
TZNAME:EST
DTSTART:20251102T060000
END:STANDARD
BEGIN:DAYLIGHT
TZOFFSETFROM:-0500
TZOFFSETTO:-0400
TZNAME:EDT
DTSTART:20260308T070000
END:DAYLIGHT
BEGIN:STANDARD
TZOFFSETFROM:-0400
TZOFFSETTO:-0500
TZNAME:EST
DTSTART:20261101T060000
END:STANDARD
END:VTIMEZONE
BEGIN:VEVENT
DTSTART;TZID=America/New_York:20251004T080000
DTEND;TZID=America/New_York:20251004T170000
DTSTAMP:20260419T132511
CREATED:20251001T152632Z
LAST-MODIFIED:20251001T154131Z
UID:23233-1759564800-1759597200@piedmontpark.org
SUMMARY:VA Highlands Plein Air Art Week
DESCRIPTION:Try to spot Virginia Highland Plein Air artists in the Park! They’ll be painting around the Park gearing up for a Wet Paint Sale happening on October 4 from 9AM-1PM at the 12th Street Gate. 10% of sales are donated to Piedmont Park Conservancy!
URL:https://piedmontpark.org/event/virginia-highland-plein-air-painters/2025-10-04/
END:VEVENT
BEGIN:VEVENT
DTSTART;TZID=America/New_York:20251003T080000
DTEND;TZID=America/New_York:20251003T170000
DTSTAMP:20260419T132511
CREATED:20251001T152632Z
LAST-MODIFIED:20251001T154130Z
UID:23232-1759478400-1759510800@piedmontpark.org
SUMMARY:VA Highlands Plein Air Art Week
DESCRIPTION:Try to spot Virginia Highland Plein Air artists in the Park! They’ll be painting around the Park gearing up for a Wet Paint Sale happening on October 4 from 9AM-1PM at the 12th Street Gate. 10% of sales are donated to Piedmont Park Conservancy!
URL:https://piedmontpark.org/event/virginia-highland-plein-air-painters/2025-10-03/
END:VEVENT
BEGIN:VEVENT
DTSTART;TZID=America/New_York:20251002T080000
DTEND;TZID=America/New_York:20251002T170000
DTSTAMP:20260419T132511
CREATED:20251001T152632Z
LAST-MODIFIED:20251001T154130Z
UID:23231-1759392000-1759424400@piedmontpark.org
SUMMARY:VA Highlands Plein Air Art Week
DESCRIPTION:Try to spot Virginia Highland Plein Air artists in the Park! They’ll be painting around the Park gearing up for a Wet Paint Sale happening on October 4 from 9AM-1PM at the 12th Street Gate. 10% of sales are donated to Piedmont Park Conservancy!
URL:https://piedmontpark.org/event/virginia-highland-plein-air-painters/2025-10-02/
END:VEVENT
BEGIN:VEVENT
DTSTART;TZID=America/New_York:20251001T080000
DTEND;TZID=America/New_York:20251001T170000
DTSTAMP:20260419T132511
CREATED:20251001T152632Z
LAST-MODIFIED:20251001T154130Z
UID:23230-1759305600-1759338000@piedmontpark.org
SUMMARY:VA Highlands Plein Air Art Week
DESCRIPTION:Try to spot Virginia Highland Plein Air artists in the Park! They’ll be painting around the Park gearing up for a Wet Paint Sale happening on October 4 from 9AM-1PM at the 12th Street Gate. 10% of sales are donated to Piedmont Park Conservancy!
URL:https://piedmontpark.org/event/virginia-highland-plein-air-painters/2025-10-01/
END:VEVENT
BEGIN:VEVENT
DTSTART;TZID=America/New_York:20250930T080000
DTEND;TZID=America/New_York:20250930T170000
DTSTAMP:20260419T132511
CREATED:20251001T152632Z
LAST-MODIFIED:20251001T154130Z
UID:23229-1759219200-1759251600@piedmontpark.org
SUMMARY:VA Highlands Plein Air Art Week
DESCRIPTION:Try to spot Virginia Highland Plein Air artists in the Park! They’ll be painting around the Park gearing up for a Wet Paint Sale happening on October 4 from 9AM-1PM at the 12th Street Gate. 10% of sales are donated to Piedmont Park Conservancy!
URL:https://piedmontpark.org/event/virginia-highland-plein-air-painters/2025-09-30/
END:VEVENT
BEGIN:VEVENT
DTSTART;TZID=America/New_York:20250929T080000
DTEND;TZID=America/New_York:20250929T170000
DTSTAMP:20260419T132511
CREATED:20251001T152632Z
LAST-MODIFIED:20251001T154130Z
UID:23224-1759132800-1759165200@piedmontpark.org
SUMMARY:VA Highlands Plein Air Art Week
DESCRIPTION:Try to spot Virginia Highland Plein Air artists in the Park! They’ll be painting around the Park gearing up for a Wet Paint Sale happening on October 4 from 9AM-1PM at the 12th Street Gate. 10% of sales are donated to Piedmont Park Conservancy!
URL:https://piedmontpark.org/event/virginia-highland-plein-air-painters/2025-09-29/
END:VEVENT
END:VCALENDAR